BEGIN:VCALENDAR
VERSION:2.0
PRODID:-//Highland Community College - ECPv6.15.20//NONSGML v1.0//EN
CALSCALE:GREGORIAN
METHOD:PUBLISH
X-ORIGINAL-URL:https://highland.edu
X-WR-CALDESC:Events for Highland Community College
REFRESH-INTERVAL;VALUE=DURATION:PT1H
X-Robots-Tag:noindex
X-PUBLISHED-TTL:PT1H
BEGIN:VTIMEZONE
TZID:America/Chicago
BEGIN:DAYLIGHT
TZOFFSETFROM:-0600
TZOFFSETTO:-0500
TZNAME:CDT
DTSTART:20240310T080000
END:DAYLIGHT
BEGIN:STANDARD
TZOFFSETFROM:-0500
TZOFFSETTO:-0600
TZNAME:CST
DTSTART:20241103T070000
END:STANDARD
BEGIN:DAYLIGHT
TZOFFSETFROM:-0600
TZOFFSETTO:-0500
TZNAME:CDT
DTSTART:20250309T080000
END:DAYLIGHT
BEGIN:STANDARD
TZOFFSETFROM:-0500
TZOFFSETTO:-0600
TZNAME:CST
DTSTART:20251102T070000
END:STANDARD
BEGIN:DAYLIGHT
TZOFFSETFROM:-0600
TZOFFSETTO:-0500
TZNAME:CDT
DTSTART:20260308T080000
END:DAYLIGHT
BEGIN:STANDARD
TZOFFSETFROM:-0500
TZOFFSETTO:-0600
TZNAME:CST
DTSTART:20261101T070000
END:STANDARD
END:VTIMEZONE
BEGIN:VEVENT
DTSTART;VALUE=DATE:20250818
DTEND;VALUE=DATE:20250819
DTSTAMP:20260424T071513
CREATED:20241115T193009Z
LAST-MODIFIED:20241115T193009Z
UID:10002185-1755475200-1755561599@highland.edu
SUMMARY:Classes begin
DESCRIPTION:
URL:https://highland.edu/event/classes-begin-5/
CATEGORIES:Academic Calendar
END:VEVENT
BEGIN:VEVENT
DTSTART;TZID=America/Chicago:20250814T080000
DTEND;TZID=America/Chicago:20250814T170000
DTSTAMP:20260424T071513
CREATED:20241115T192913Z
LAST-MODIFIED:20241115T192913Z
UID:10002184-1755158400-1755190800@highland.edu
SUMMARY:Faculty return to campus
DESCRIPTION:
URL:https://highland.edu/event/faculty-return-to-campus-2/
CATEGORIES:Academic Calendar
END:VEVENT
BEGIN:VEVENT
DTSTART;TZID=America/Chicago:20250805T150000
DTEND;TZID=America/Chicago:20250805T180000
DTSTAMP:20260424T071513
CREATED:20250804T225340Z
LAST-MODIFIED:20250804T225644Z
UID:10002755-1754406000-1754416800@highland.edu
SUMMARY:New Student Orientation
DESCRIPTION:Hello to Highland’s newest Cougars! We hope you’ll find yourself at home here. Drop by New Student Orientation for food\, giveaways\, games and helpful info:\n\n– Campus Tour: 3:15 pm\, 4:15 pm\, or 5:15 pm\n– Tech 101: 3:45 pm or 4:45 pm\nWe’re ready to answer all of your questions!
URL:https://highland.edu/event/new-student-orientation/
LOCATION:Building M lobby
CATEGORIES:Academic Calendar,Advising
END:VEVENT
BEGIN:VEVENT
DTSTART;VALUE=DATE:20250731
DTEND;VALUE=DATE:20250801
DTSTAMP:20260424T071513
CREATED:20241115T192525Z
LAST-MODIFIED:20241115T192525Z
UID:10002182-1753920000-1754006399@highland.edu
SUMMARY:End of Summer session
DESCRIPTION:
URL:https://highland.edu/event/end-of-summer-session-2/
CATEGORIES:Academic Calendar
END:VEVENT
BEGIN:VEVENT
DTSTART;TZID=America/Chicago:20250724T080000
DTEND;TZID=America/Chicago:20250724T170000
DTSTAMP:20260424T071513
CREATED:20241115T192449Z
LAST-MODIFIED:20241115T192449Z
UID:10002181-1753344000-1753376400@highland.edu
SUMMARY:Last day to withdraw
DESCRIPTION:
URL:https://highland.edu/event/last-day-to-withdraw/
CATEGORIES:Academic Calendar
END:VEVENT
BEGIN:VEVENT
DTSTART;VALUE=DATE:20250703
DTEND;VALUE=DATE:20250704
DTSTAMP:20260424T071513
CREATED:20241115T192409Z
LAST-MODIFIED:20241115T192409Z
UID:10002180-1751500800-1751587199@highland.edu
SUMMARY:Midterm
DESCRIPTION:
URL:https://highland.edu/event/midterm-5/
CATEGORIES:Academic Calendar
END:VEVENT
BEGIN:VEVENT
DTSTART;TZID=America/Chicago:20250616T080000
DTEND;TZID=America/Chicago:20250616T170000
DTSTAMP:20260424T071513
CREATED:20241115T192316Z
LAST-MODIFIED:20241115T192316Z
UID:10002179-1750060800-1750093200@highland.edu
SUMMARY:Last day to drop for 8-week classes\, no record/refund
DESCRIPTION:
URL:https://highland.edu/event/last-day-to-drop-for-8-week-classes-no-record-refund-2/
CATEGORIES:Academic Calendar
END:VEVENT
BEGIN:VEVENT
DTSTART;TZID=America/Chicago:20250609T080000
DTEND;TZID=America/Chicago:20250612T170000
DTSTAMP:20260424T071513
CREATED:20241115T192210Z
LAST-MODIFIED:20241115T192210Z
UID:10002178-1749456000-1749747600@highland.edu
SUMMARY:Class changes permitted
DESCRIPTION:
URL:https://highland.edu/event/class-changes-permitted-2/
CATEGORIES:Academic Calendar
END:VEVENT
BEGIN:VEVENT
DTSTART;VALUE=DATE:20250609
DTEND;VALUE=DATE:20250610
DTSTAMP:20260424T071513
CREATED:20241115T192057Z
LAST-MODIFIED:20241115T192057Z
UID:10002177-1749427200-1749513599@highland.edu
SUMMARY:Classes Begin
DESCRIPTION:
URL:https://highland.edu/event/classes-begin-4/
CATEGORIES:Academic Calendar
END:VEVENT
BEGIN:VEVENT
DTSTART;VALUE=DATE:20250605
DTEND;VALUE=DATE:20250606
DTSTAMP:20260424T071513
CREATED:20241115T191825Z
LAST-MODIFIED:20241115T191825Z
UID:10002175-1749081600-1749167999@highland.edu
SUMMARY:End of session
DESCRIPTION:
URL:https://highland.edu/event/end-of-session/
CATEGORIES:Academic Calendar
END:VEVENT
BEGIN:VEVENT
DTSTART;TZID=America/Chicago:20250520T080000
DTEND;TZID=America/Chicago:20250520T170000
DTSTAMP:20260424T071513
CREATED:20241115T191717Z
LAST-MODIFIED:20241115T191717Z
UID:10002174-1747728000-1747760400@highland.edu
SUMMARY:Last day to drop\, no  record/refund
DESCRIPTION:
URL:https://highland.edu/event/last-day-to-drop-no-record-refund/
CATEGORIES:Academic Calendar
END:VEVENT
BEGIN:VEVENT
DTSTART;VALUE=DATE:20250519
DTEND;VALUE=DATE:20250520
DTSTAMP:20260424T071513
CREATED:20241115T191626Z
LAST-MODIFIED:20241115T191626Z
UID:10002173-1747612800-1747699199@highland.edu
SUMMARY:Classes Begin
DESCRIPTION:
URL:https://highland.edu/event/classes-begin-3/
CATEGORIES:Academic Calendar
END:VEVENT
BEGIN:VEVENT
DTSTART;TZID=America/Chicago:20250517T080000
DTEND;TZID=America/Chicago:20250517T170000
DTSTAMP:20260424T071513
CREATED:20241115T190928Z
LAST-MODIFIED:20241115T190928Z
UID:10002172-1747468800-1747501200@highland.edu
SUMMARY:Final day instructors
DESCRIPTION:
URL:https://highland.edu/event/final-day-instructors/
CATEGORIES:Academic Calendar
END:VEVENT
BEGIN:VEVENT
DTSTART;VALUE=DATE:20250517
DTEND;VALUE=DATE:20250518
DTSTAMP:20260424T071513
CREATED:20241115T190848Z
LAST-MODIFIED:20241115T190848Z
UID:10002171-1747440000-1747526399@highland.edu
SUMMARY:Commencement
DESCRIPTION:
URL:https://highland.edu/event/commencement/
CATEGORIES:Academic Calendar
END:VEVENT
BEGIN:VEVENT
DTSTART;VALUE=DATE:20250514
DTEND;VALUE=DATE:20250515
DTSTAMP:20260424T071513
CREATED:20241115T190739Z
LAST-MODIFIED:20241115T190739Z
UID:10002170-1747180800-1747267199@highland.edu
SUMMARY:End of Spring Term
DESCRIPTION:
URL:https://highland.edu/event/end-of-spring-term-2/
CATEGORIES:Academic Calendar
END:VEVENT
BEGIN:VEVENT
DTSTART;VALUE=DATE:20250512
DTEND;VALUE=DATE:20250515
DTSTAMP:20260424T071513
CREATED:20241115T190636Z
LAST-MODIFIED:20241115T190636Z
UID:10002169-1747008000-1747267199@highland.edu
SUMMARY:Final Exams
DESCRIPTION:
URL:https://highland.edu/event/final-exams-5/
CATEGORIES:Academic Calendar
END:VEVENT
BEGIN:VEVENT
DTSTART;VALUE=DATE:20250508
DTEND;VALUE=DATE:20250510
DTSTAMP:20260424T071513
CREATED:20241115T190605Z
LAST-MODIFIED:20241115T190605Z
UID:10002168-1746662400-1746835199@highland.edu
SUMMARY:Final Exams
DESCRIPTION:
URL:https://highland.edu/event/final-exams-4/
CATEGORIES:Academic Calendar
END:VEVENT
BEGIN:VEVENT
DTSTART;TZID=America/Chicago:20250424T080000
DTEND;TZID=America/Chicago:20250424T170000
DTSTAMP:20260424T071513
CREATED:20241115T190447Z
LAST-MODIFIED:20241115T190447Z
UID:10002167-1745481600-1745514000@highland.edu
SUMMARY:Last day to withdraw for 16-week and second 8-week classes
DESCRIPTION:
URL:https://highland.edu/event/last-day-to-withdraw-for-16-week-and-second-8-week-classes/
CATEGORIES:Academic Calendar
END:VEVENT
BEGIN:VEVENT
DTSTART;TZID=America/Chicago:20250414T080000
DTEND;TZID=America/Chicago:20250815T170000
DTSTAMP:20260424T071513
CREATED:20241115T192719Z
LAST-MODIFIED:20241115T192719Z
UID:10002183-1744617600-1755277200@highland.edu
SUMMARY:Registration for Fall 2025
DESCRIPTION:
URL:https://highland.edu/event/registration-for-fall-2025/
CATEGORIES:Academic Calendar
END:VEVENT
BEGIN:VEVENT
DTSTART;TZID=America/Chicago:20250414T080000
DTEND;TZID=America/Chicago:20250815T170000
DTSTAMP:20260424T071513
CREATED:20241115T190236Z
LAST-MODIFIED:20241115T190236Z
UID:10002166-1744617600-1755277200@highland.edu
SUMMARY:Registration of Fall 2025
DESCRIPTION:
URL:https://highland.edu/event/registration-of-fall-2025/
CATEGORIES:Academic Calendar
END:VEVENT
BEGIN:VEVENT
DTSTART;VALUE=DATE:20250317
DTEND;VALUE=DATE:20250322
DTSTAMP:20260424T071513
CREATED:20241115T190125Z
LAST-MODIFIED:20241115T190125Z
UID:10002165-1742169600-1742601599@highland.edu
SUMMARY:Spring Break
DESCRIPTION:
URL:https://highland.edu/event/spring-break-2/
CATEGORIES:Academic Calendar
END:VEVENT
BEGIN:VEVENT
DTSTART;TZID=America/Chicago:20250314T080000
DTEND;TZID=America/Chicago:20250314T170000
DTSTAMP:20260424T071513
CREATED:20241115T190014Z
LAST-MODIFIED:20241115T190014Z
UID:10002164-1741939200-1741971600@highland.edu
SUMMARY:Last day to drop for second 8-week classes\, no record/refund
DESCRIPTION:
URL:https://highland.edu/event/last-day-to-drop-for-second-8-week-classes-no-record-refund-3/
CATEGORIES:Academic Calendar
END:VEVENT
BEGIN:VEVENT
DTSTART;VALUE=DATE:20250310
DTEND;VALUE=DATE:20250311
DTSTAMP:20260424T071513
CREATED:20241114T194625Z
LAST-MODIFIED:20241114T194625Z
UID:10002162-1741564800-1741651199@highland.edu
SUMMARY:Second 8-week classes begin
DESCRIPTION:
URL:https://highland.edu/event/second-8-week-classes-begin-4/
CATEGORIES:Academic Calendar
END:VEVENT
BEGIN:VEVENT
DTSTART;VALUE=DATE:20250307
DTEND;VALUE=DATE:20250308
DTSTAMP:20260424T071513
CREATED:20241114T194439Z
LAST-MODIFIED:20241114T194439Z
UID:10002161-1741305600-1741391999@highland.edu
SUMMARY:Midterm
DESCRIPTION:
URL:https://highland.edu/event/midterm-4/
CATEGORIES:Academic Calendar
END:VEVENT
BEGIN:VEVENT
DTSTART;TZID=America/Chicago:20250228T080000
DTEND;TZID=America/Chicago:20250228T170000
DTSTAMP:20260424T071513
CREATED:20241114T194345Z
LAST-MODIFIED:20241114T194345Z
UID:10002160-1740729600-1740762000@highland.edu
SUMMARY:Last day to withdraw "W" for first 8-week classes
DESCRIPTION:
URL:https://highland.edu/event/last-day-to-withdraw-w-for-first-8-week-classes-2/
CATEGORIES:Academic Calendar
END:VEVENT
BEGIN:VEVENT
DTSTART;TZID=America/Chicago:20250127T080000
DTEND;TZID=America/Chicago:20250127T170000
DTSTAMP:20260424T071513
CREATED:20241114T194045Z
LAST-MODIFIED:20241114T194045Z
UID:10002158-1737964800-1737997200@highland.edu
SUMMARY:Last day to drop for 16-week classes\, no record/refund
DESCRIPTION:
URL:https://highland.edu/event/last-day-to-drop-for-16-week-classes-no-record-refund-3/
CATEGORIES:Academic Calendar
END:VEVENT
BEGIN:VEVENT
DTSTART;TZID=America/Chicago:20250117T080000
DTEND;TZID=America/Chicago:20250117T170000
DTSTAMP:20260424T071513
CREATED:20241114T193942Z
LAST-MODIFIED:20241114T193942Z
UID:10002157-1737100800-1737133200@highland.edu
SUMMARY:Last Day to drop for first 8-week classes\, no record/refund
DESCRIPTION:
URL:https://highland.edu/event/last-day-to-drop-for-first-8-week-classes-no-record-refund-3/
CATEGORIES:Academic Calendar
END:VEVENT
BEGIN:VEVENT
DTSTART;TZID=America/Chicago:20250113T080000
DTEND;TZID=America/Chicago:20250117T170000
DTSTAMP:20260424T071513
CREATED:20241114T193721Z
LAST-MODIFIED:20241114T193721Z
UID:10002156-1736755200-1737133200@highland.edu
SUMMARY:Class changes permitted
DESCRIPTION:
URL:https://highland.edu/event/class-changes-permitted/
CATEGORIES:Academic Calendar
END:VEVENT
BEGIN:VEVENT
DTSTART;VALUE=DATE:20250113
DTEND;VALUE=DATE:20250114
DTSTAMP:20260424T071513
CREATED:20241114T193500Z
LAST-MODIFIED:20241114T193500Z
UID:10002155-1736726400-1736812799@highland.edu
SUMMARY:Classes Begin
DESCRIPTION:
URL:https://highland.edu/event/classes-begin-2/
CATEGORIES:Academic Calendar
END:VEVENT
BEGIN:VEVENT
DTSTART;VALUE=DATE:20250109
DTEND;VALUE=DATE:20250110
DTSTAMP:20260424T071513
CREATED:20241114T193412Z
LAST-MODIFIED:20241114T193412Z
UID:10002154-1736380800-1736467199@highland.edu
SUMMARY:Faculty return to campus
DESCRIPTION:
URL:https://highland.edu/event/faculty-return-to-campus/
CATEGORIES:Academic Calendar
END:VEVENT
END:VCALENDAR