BEGIN:VCALENDAR
VERSION:2.0
PRODID:-//Highland Community College - ECPv6.15.20//NONSGML v1.0//EN
CALSCALE:GREGORIAN
METHOD:PUBLISH
X-WR-CALNAME:Highland Community College
X-ORIGINAL-URL:https://highland.edu
X-WR-CALDESC:Events for Highland Community College
REFRESH-INTERVAL;VALUE=DURATION:PT1H
X-Robots-Tag:noindex
X-PUBLISHED-TTL:PT1H
BEGIN:VTIMEZONE
TZID:America/Chicago
BEGIN:DAYLIGHT
TZOFFSETFROM:-0600
TZOFFSETTO:-0500
TZNAME:CDT
DTSTART:20220313T080000
END:DAYLIGHT
BEGIN:STANDARD
TZOFFSETFROM:-0500
TZOFFSETTO:-0600
TZNAME:CST
DTSTART:20221106T070000
END:STANDARD
BEGIN:DAYLIGHT
TZOFFSETFROM:-0600
TZOFFSETTO:-0500
TZNAME:CDT
DTSTART:20230312T080000
END:DAYLIGHT
BEGIN:STANDARD
TZOFFSETFROM:-0500
TZOFFSETTO:-0600
TZNAME:CST
DTSTART:20231105T070000
END:STANDARD
BEGIN:DAYLIGHT
TZOFFSETFROM:-0600
TZOFFSETTO:-0500
TZNAME:CDT
DTSTART:20240310T080000
END:DAYLIGHT
BEGIN:STANDARD
TZOFFSETFROM:-0500
TZOFFSETTO:-0600
TZNAME:CST
DTSTART:20241103T070000
END:STANDARD
BEGIN:DAYLIGHT
TZOFFSETFROM:-0600
TZOFFSETTO:-0500
TZNAME:CDT
DTSTART:20250309T080000
END:DAYLIGHT
BEGIN:STANDARD
TZOFFSETFROM:-0500
TZOFFSETTO:-0600
TZNAME:CST
DTSTART:20251102T070000
END:STANDARD
END:VTIMEZONE
BEGIN:VEVENT
DTSTART;VALUE=DATE:20240619
DTEND;VALUE=DATE:20240620
DTSTAMP:20260424T161354
CREATED:20240605T132412Z
LAST-MODIFIED:20240605T132412Z
UID:10001573-1718755200-1718841599@highland.edu
SUMMARY:Juneteenth
DESCRIPTION:Highland Community College is closed in observance of Juneteenth.
URL:https://highland.edu/event/juneteenth/
CATEGORIES:Academic Calendar
END:VEVENT
BEGIN:VEVENT
DTSTART;VALUE=DATE:20240617
DTEND;VALUE=DATE:20240618
DTSTAMP:20260424T161354
CREATED:20240605T132317Z
LAST-MODIFIED:20240605T132317Z
UID:10001572-1718582400-1718668799@highland.edu
SUMMARY:Last day to drop for 8-week classes\, no record/refund
DESCRIPTION:
URL:https://highland.edu/event/last-day-to-drop-for-8-week-classes-no-record-refund/
CATEGORIES:Academic Calendar
END:VEVENT
BEGIN:VEVENT
DTSTART;TZID=America/Chicago:20240518T100000
DTEND;TZID=America/Chicago:20240518T130000
DTSTAMP:20260424T161354
CREATED:20240502T164126Z
LAST-MODIFIED:20240515T214222Z
UID:10001552-1716026400-1716037200@highland.edu
SUMMARY:2024 Commencement
DESCRIPTION:Celebrate the class of 2024 during Highland’s 61st Commencement!\n\nCommencement will take place in the courtyard between the Marvin-Burt Liberal Arts Center and Natural Science Center. Guest parking will be located in parking lot D on the south side of campus outside of the Natural Science Center/Ray and Betty Stamm Health Science Nursing Wing.\n\nThe ceremony will be live-streamed through Highland’s YouTube account. Subscribe ahead of the live stream here.\n\n\n\n\n Add to calendar
URL:https://highland.edu/event/2024-commencement/
CATEGORIES:Academic Calendar,Student Events
END:VEVENT
BEGIN:VEVENT
DTSTART;VALUE=DATE:20240515
DTEND;VALUE=DATE:20240516
DTSTAMP:20260424T161354
CREATED:20231101T192509Z
LAST-MODIFIED:20231101T192509Z
UID:10000362-1715731200-1715817599@highland.edu
SUMMARY:End of Spring term
DESCRIPTION:
URL:https://highland.edu/event/end-of-spring-term/
CATEGORIES:Academic Calendar
END:VEVENT
BEGIN:VEVENT
DTSTART;VALUE=DATE:20240509
DTEND;VALUE=DATE:20240516
DTSTAMP:20260424T161354
CREATED:20231101T192420Z
LAST-MODIFIED:20231101T192420Z
UID:10000361-1715212800-1715817599@highland.edu
SUMMARY:Final Exams
DESCRIPTION:
URL:https://highland.edu/event/final-exams-2/
CATEGORIES:Academic Calendar
END:VEVENT
BEGIN:VEVENT
DTSTART;VALUE=DATE:20240425
DTEND;VALUE=DATE:20240426
DTSTAMP:20260424T161354
CREATED:20231101T173604Z
LAST-MODIFIED:20231101T173604Z
UID:10000359-1714003200-1714089599@highland.edu
SUMMARY:Last day to withdraw "W" for 16-week and second 8-week classes
DESCRIPTION:
URL:https://highland.edu/event/last-day-to-withdraw-w-for-16-week-and-second-8-week-classes-2/
CATEGORIES:Academic Calendar
END:VEVENT
BEGIN:VEVENT
DTSTART;VALUE=DATE:20240415
DTEND;VALUE=DATE:20240416
DTSTAMP:20260424T161354
CREATED:20231101T173324Z
LAST-MODIFIED:20231101T173324Z
UID:10000358-1713139200-1713225599@highland.edu
SUMMARY:Fall registration opens
DESCRIPTION:
URL:https://highland.edu/event/fall-registration-opens/
CATEGORIES:Academic Calendar
END:VEVENT
BEGIN:VEVENT
DTSTART;VALUE=DATE:20240320
DTEND;VALUE=DATE:20240321
DTSTAMP:20260424T161354
CREATED:20240223T202640Z
LAST-MODIFIED:20240223T202640Z
UID:10000681-1710892800-1710979199@highland.edu
SUMMARY:Pell and MAP Disbursement
DESCRIPTION:
URL:https://highland.edu/event/pell-and-map-disbursement/
CATEGORIES:Academic Calendar
END:VEVENT
BEGIN:VEVENT
DTSTART;VALUE=DATE:20240318
DTEND;VALUE=DATE:20240323
DTSTAMP:20260424T161354
CREATED:20231101T172728Z
LAST-MODIFIED:20231101T172728Z
UID:10000357-1710720000-1711151999@highland.edu
SUMMARY:Spring Break
DESCRIPTION:
URL:https://highland.edu/event/spring-break/
CATEGORIES:Academic Calendar
END:VEVENT
BEGIN:VEVENT
DTSTART;VALUE=DATE:20240315
DTEND;VALUE=DATE:20240316
DTSTAMP:20260424T161354
CREATED:20231101T170839Z
LAST-MODIFIED:20231101T170839Z
UID:10000356-1710460800-1710547199@highland.edu
SUMMARY:Last day to drop for second 8-week classes\, no record/refund
DESCRIPTION:
URL:https://highland.edu/event/last-day-to-drop-for-second-8-week-classes-no-record-refund/
CATEGORIES:Academic Calendar
END:VEVENT
BEGIN:VEVENT
DTSTART;VALUE=DATE:20240311
DTEND;VALUE=DATE:20240312
DTSTAMP:20260424T161354
CREATED:20231101T161540Z
LAST-MODIFIED:20231101T161540Z
UID:10000354-1710115200-1710201599@highland.edu
SUMMARY:Second 8-week classes begin
DESCRIPTION:
URL:https://highland.edu/event/second-8-week-classes-begin-2/
CATEGORIES:Academic Calendar
END:VEVENT
BEGIN:VEVENT
DTSTART;VALUE=DATE:20240301
DTEND;VALUE=DATE:20240302
DTSTAMP:20260424T161354
CREATED:20231101T153831Z
LAST-MODIFIED:20231101T153831Z
UID:10000353-1709251200-1709337599@highland.edu
SUMMARY:Last day to withdraw "W" for first 8-week classes
DESCRIPTION:
URL:https://highland.edu/event/last-day-to-withdraw-w-for-first-8-week-classes/
CATEGORIES:Academic Calendar
END:VEVENT
BEGIN:VEVENT
DTSTART;VALUE=DATE:20240229
DTEND;VALUE=DATE:20240301
DTSTAMP:20260424T161354
CREATED:20240223T202715Z
LAST-MODIFIED:20240223T202715Z
UID:10000682-1709164800-1709251199@highland.edu
SUMMARY:Pell Refunds Mailed
DESCRIPTION:
URL:https://highland.edu/event/pell-refunds-mailed/
CATEGORIES:Academic Calendar
END:VEVENT
BEGIN:VEVENT
DTSTART;VALUE=DATE:20240221
DTEND;VALUE=DATE:20240222
DTSTAMP:20260424T161354
CREATED:20231101T143948Z
LAST-MODIFIED:20231101T143948Z
UID:10000352-1708473600-1708559999@highland.edu
SUMMARY:Summer registration opens
DESCRIPTION:
URL:https://highland.edu/event/summer-registration-opens/
CATEGORIES:Academic Calendar
END:VEVENT
BEGIN:VEVENT
DTSTART;VALUE=DATE:20240212
DTEND;VALUE=DATE:20240213
DTSTAMP:20260424T161354
CREATED:20231101T143910Z
LAST-MODIFIED:20231101T143910Z
UID:10000351-1707696000-1707782399@highland.edu
SUMMARY:Lincoln's Birthday
DESCRIPTION:Highland Community College will be closed in observance of Lincoln’s Birthday.
URL:https://highland.edu/event/lincolns-birthday/
CATEGORIES:Academic Calendar
END:VEVENT
BEGIN:VEVENT
DTSTART;VALUE=DATE:20240209
DTEND;VALUE=DATE:20240210
DTSTAMP:20260424T161354
CREATED:20240223T202749Z
LAST-MODIFIED:20240223T202749Z
UID:10000683-1707436800-1707523199@highland.edu
SUMMARY:Scholarship Disbursement
DESCRIPTION:
URL:https://highland.edu/event/scholarship-disbursement/
CATEGORIES:Academic Calendar
END:VEVENT
BEGIN:VEVENT
DTSTART;VALUE=DATE:20240130
DTEND;VALUE=DATE:20240131
DTSTAMP:20260424T161354
CREATED:20231101T143810Z
LAST-MODIFIED:20240129T160354Z
UID:10000350-1706572800-1706659199@highland.edu
SUMMARY:Last day to drop for 16-week classes\, no record/refund
DESCRIPTION:
URL:https://highland.edu/event/last-day-to-drop-for-16-week-classes-no-record-refund/
CATEGORIES:Academic Calendar
END:VEVENT
BEGIN:VEVENT
DTSTART;VALUE=DATE:20240125
DTEND;VALUE=DATE:20240126
DTSTAMP:20260424T161354
CREATED:20240119T225008Z
LAST-MODIFIED:20240119T225008Z
UID:10000602-1706140800-1706227199@highland.edu
SUMMARY:Intent to Graduate Due
DESCRIPTION:Planning to graduate in the spring or summer of 2024? You MUST submit this form with a $30 fee to Enrollment Services. \nFind the form on the Enrollment and Records page.
URL:https://highland.edu/event/intent-to-graduate-due/
CATEGORIES:Academic Calendar
END:VEVENT
BEGIN:VEVENT
DTSTART;VALUE=DATE:20240122
DTEND;VALUE=DATE:20240123
DTSTAMP:20260424T161354
CREATED:20231101T143142Z
LAST-MODIFIED:20231101T143142Z
UID:10000349-1705881600-1705967999@highland.edu
SUMMARY:Last day to drop for first 8-week classes\, no record/refund
DESCRIPTION:
URL:https://highland.edu/event/last-day-to-drop-for-first-8-week-classes-no-record-refund/
CATEGORIES:Academic Calendar
END:VEVENT
BEGIN:VEVENT
DTSTART;VALUE=DATE:20240116
DTEND;VALUE=DATE:20240117
DTSTAMP:20260424T161354
CREATED:20231101T143038Z
LAST-MODIFIED:20231101T143038Z
UID:10000348-1705363200-1705449599@highland.edu
SUMMARY:Classes begin
DESCRIPTION:
URL:https://highland.edu/event/classes-begin/
CATEGORIES:Academic Calendar
END:VEVENT
BEGIN:VEVENT
DTSTART;VALUE=DATE:20240115
DTEND;VALUE=DATE:20240116
DTSTAMP:20260424T161354
CREATED:20231101T143010Z
LAST-MODIFIED:20231101T143010Z
UID:10000347-1705276800-1705363199@highland.edu
SUMMARY:Martin Luther King Jr. Day
DESCRIPTION:Highland Community College will be closed in observance of Martin Luther King Jr. Day.
URL:https://highland.edu/event/martin-luther-king-jr-day/
CATEGORIES:Academic Calendar
END:VEVENT
BEGIN:VEVENT
DTSTART;VALUE=DATE:20231222
DTEND;VALUE=DATE:20240102
DTSTAMP:20260424T161354
CREATED:20231101T142422Z
LAST-MODIFIED:20231101T142422Z
UID:10000345-1703203200-1704153599@highland.edu
SUMMARY:Campus Closed
DESCRIPTION:
URL:https://highland.edu/event/campus-closed/
CATEGORIES:Academic Calendar
END:VEVENT
BEGIN:VEVENT
DTSTART;VALUE=DATE:20231215
DTEND;VALUE=DATE:20231216
DTSTAMP:20260424T161354
CREATED:20231101T142847Z
LAST-MODIFIED:20231101T142847Z
UID:10000346-1702598400-1702684799@highland.edu
SUMMARY:End of Fall term
DESCRIPTION:
URL:https://highland.edu/event/end-of-fall-term/
CATEGORIES:Academic Calendar
END:VEVENT
BEGIN:VEVENT
DTSTART;VALUE=DATE:20231211
DTEND;VALUE=DATE:20231216
DTSTAMP:20260424T161354
CREATED:20230928T200746Z
LAST-MODIFIED:20230928T200746Z
UID:10000312-1702252800-1702684799@highland.edu
SUMMARY:Final exams
DESCRIPTION:
URL:https://highland.edu/event/final-exams/
CATEGORIES:Academic Calendar
END:VEVENT
BEGIN:VEVENT
DTSTART;VALUE=DATE:20231127
DTEND;VALUE=DATE:20231128
DTSTAMP:20260424T161354
CREATED:20230927T203406Z
LAST-MODIFIED:20230927T203406Z
UID:10000303-1701043200-1701129599@highland.edu
SUMMARY:Last day to withdraw "W" for 16-week and second 8-week classes
DESCRIPTION:
URL:https://highland.edu/event/last-day-to-withdraw-w-for-16-week-and-second-8-week-classes/
CATEGORIES:Academic Calendar
END:VEVENT
BEGIN:VEVENT
DTSTART;VALUE=DATE:20231123
DTEND;VALUE=DATE:20231125
DTSTAMP:20260424T161354
CREATED:20230817T010747Z
LAST-MODIFIED:20230817T013242Z
UID:10000092-1700697600-1700870399@highland.edu
SUMMARY:Thanksgiving
DESCRIPTION:Highland Community College will be closed in observance of Thanksgiving.
URL:https://highland.edu/event/thanksgiving/
CATEGORIES:Academic Calendar
END:VEVENT
BEGIN:VEVENT
DTSTART;VALUE=DATE:20231023
DTEND;VALUE=DATE:20231024
DTSTAMP:20260424T161354
CREATED:20230817T010747Z
LAST-MODIFIED:20230817T013241Z
UID:10000089-1698019200-1698105599@highland.edu
SUMMARY:Spring 2024 Registration Opens
DESCRIPTION:Check out spring offerings here!
URL:https://highland.edu/event/spring-2024-registration-opens/
CATEGORIES:Academic Calendar
END:VEVENT
BEGIN:VEVENT
DTSTART;VALUE=DATE:20231020
DTEND;VALUE=DATE:20231021
DTSTAMP:20260424T161354
CREATED:20230927T203215Z
LAST-MODIFIED:20230927T203633Z
UID:10000302-1697760000-1697846399@highland.edu
SUMMARY:Last day to drop for second 8-week classes\, no record/refund
DESCRIPTION:
URL:https://highland.edu/event/last-day-to-drop-for-second-8-week-classes-no-refund-record/
CATEGORIES:Academic Calendar
END:VEVENT
BEGIN:VEVENT
DTSTART;VALUE=DATE:20231016
DTEND;VALUE=DATE:20231017
DTSTAMP:20260424T161354
CREATED:20230927T203005Z
LAST-MODIFIED:20230927T203005Z
UID:10000301-1697414400-1697500799@highland.edu
SUMMARY:Second 8-week Classes Begin
DESCRIPTION:Check out spring offerings here!
URL:https://highland.edu/event/second-8-week-classes-begin/
CATEGORIES:Academic Calendar
END:VEVENT
BEGIN:VEVENT
DTSTART;VALUE=DATE:20231009
DTEND;VALUE=DATE:20231010
DTSTAMP:20260424T161354
CREATED:20230817T010744Z
LAST-MODIFIED:20230817T013241Z
UID:10000087-1696809600-1696895999@highland.edu
SUMMARY:Columbus Day
DESCRIPTION:Highland is closed in observance of Columbus Day.
URL:https://highland.edu/event/columbus-day/
CATEGORIES:Academic Calendar
END:VEVENT
END:VCALENDAR