BEGIN:VCALENDAR
VERSION:2.0
PRODID:-//Highland Community College - ECPv6.15.20//NONSGML v1.0//EN
CALSCALE:GREGORIAN
METHOD:PUBLISH
X-ORIGINAL-URL:https://highland.edu
X-WR-CALDESC:Events for Highland Community College
REFRESH-INTERVAL;VALUE=DURATION:PT1H
X-Robots-Tag:noindex
X-PUBLISHED-TTL:PT1H
BEGIN:VTIMEZONE
TZID:America/Chicago
BEGIN:DAYLIGHT
TZOFFSETFROM:-0600
TZOFFSETTO:-0500
TZNAME:CDT
DTSTART:20230312T080000
END:DAYLIGHT
BEGIN:STANDARD
TZOFFSETFROM:-0500
TZOFFSETTO:-0600
TZNAME:CST
DTSTART:20231105T070000
END:STANDARD
BEGIN:DAYLIGHT
TZOFFSETFROM:-0600
TZOFFSETTO:-0500
TZNAME:CDT
DTSTART:20240310T080000
END:DAYLIGHT
BEGIN:STANDARD
TZOFFSETFROM:-0500
TZOFFSETTO:-0600
TZNAME:CST
DTSTART:20241103T070000
END:STANDARD
BEGIN:DAYLIGHT
TZOFFSETFROM:-0600
TZOFFSETTO:-0500
TZNAME:CDT
DTSTART:20250309T080000
END:DAYLIGHT
BEGIN:STANDARD
TZOFFSETFROM:-0500
TZOFFSETTO:-0600
TZNAME:CST
DTSTART:20251102T070000
END:STANDARD
END:VTIMEZONE
BEGIN:VEVENT
DTSTART;TZID=America/Chicago:20240812T080000
DTEND;TZID=America/Chicago:20240812T170000
DTSTAMP:20260421T084325
CREATED:20240802T051017Z
LAST-MODIFIED:20240812T052508Z
UID:10001649-1723449600-1723482000@highland.edu
SUMMARY:Walk Ins
DESCRIPTION:
URL:https://highland.edu/event/walk-ins-2/
LOCATION:2nd Floor of Building H
CATEGORIES:Advising
END:VEVENT
BEGIN:VEVENT
DTSTART;TZID=America/Chicago:20240813T080000
DTEND;TZID=America/Chicago:20240813T170000
DTSTAMP:20260421T084325
CREATED:20240802T051017Z
LAST-MODIFIED:20240813T052509Z
UID:10001650-1723536000-1723568400@highland.edu
SUMMARY:Walk Ins
DESCRIPTION:
URL:https://highland.edu/event/walk-ins-3/
LOCATION:2nd Floor of Building H
CATEGORIES:Advising
END:VEVENT
BEGIN:VEVENT
DTSTART;TZID=America/Chicago:20240814T080000
DTEND;TZID=America/Chicago:20240814T170000
DTSTAMP:20260421T084325
CREATED:20240802T051017Z
LAST-MODIFIED:20240814T052514Z
UID:10001651-1723622400-1723654800@highland.edu
SUMMARY:Walk Ins
DESCRIPTION:
URL:https://highland.edu/event/walk-ins-4/
LOCATION:2nd Floor of Building H
CATEGORIES:Advising
END:VEVENT
BEGIN:VEVENT
DTSTART;TZID=America/Chicago:20240815T080000
DTEND;TZID=America/Chicago:20240815T110000
DTSTAMP:20260421T084325
CREATED:20240723T035510Z
LAST-MODIFIED:20240815T052507Z
UID:10001609-1723708800-1723719600@highland.edu
SUMMARY:Office Closed for Meeting
DESCRIPTION:
URL:https://highland.edu/event/office-closed-for-meeting-24/
CATEGORIES:Advising
END:VEVENT
BEGIN:VEVENT
DTSTART;TZID=America/Chicago:20240815T110000
DTEND;TZID=America/Chicago:20240815T170000
DTSTAMP:20260421T084325
CREATED:20240802T051017Z
LAST-MODIFIED:20240815T052507Z
UID:10001652-1723719600-1723741200@highland.edu
SUMMARY:Walk Ins
DESCRIPTION:
URL:https://highland.edu/event/walk-ins-5/
LOCATION:2nd Floor of Building H
CATEGORIES:Advising
END:VEVENT
BEGIN:VEVENT
DTSTART;TZID=America/Chicago:20240816T113000
DTEND;TZID=America/Chicago:20240816T130000
DTSTAMP:20260421T084325
CREATED:20240723T035510Z
LAST-MODIFIED:20240816T054006Z
UID:10001610-1723807800-1723813200@highland.edu
SUMMARY:Office Closed
DESCRIPTION:
URL:https://highland.edu/event/office-closed-for-meeting-25/
CATEGORIES:Advising
END:VEVENT
BEGIN:VEVENT
DTSTART;TZID=America/Chicago:20240820T080000
DTEND;TZID=America/Chicago:20240820T110000
DTSTAMP:20260421T084325
CREATED:20240815T052508Z
LAST-MODIFIED:20240820T115507Z
UID:10001660-1724140800-1724151600@highland.edu
SUMMARY:Advisor Walk Ins
DESCRIPTION:
URL:https://highland.edu/event/advisor-walk-ins-194/
LOCATION:Building H First Floor
CATEGORIES:Advising
END:VEVENT
BEGIN:VEVENT
DTSTART;TZID=America/Chicago:20240820T140000
DTEND;TZID=America/Chicago:20240820T170000
DTSTAMP:20260421T084325
CREATED:20240815T052508Z
LAST-MODIFIED:20240820T115507Z
UID:10001661-1724162400-1724173200@highland.edu
SUMMARY:Advisor Walk Ins
DESCRIPTION:
URL:https://highland.edu/event/advisor-walk-ins-195/
LOCATION:Building H First Floor
CATEGORIES:Advising
END:VEVENT
BEGIN:VEVENT
DTSTART;TZID=America/Chicago:20240821T080000
DTEND;TZID=America/Chicago:20240821T170000
DTSTAMP:20260421T084325
CREATED:20240815T052508Z
LAST-MODIFIED:20240821T115508Z
UID:10001662-1724227200-1724259600@highland.edu
SUMMARY:Advisor Walk Ins
DESCRIPTION:
URL:https://highland.edu/event/advisor-walk-ins-196/
LOCATION:Building H First Floor
CATEGORIES:Advising
END:VEVENT
BEGIN:VEVENT
DTSTART;TZID=America/Chicago:20240822T080000
DTEND;TZID=America/Chicago:20240822T170000
DTSTAMP:20260421T084325
CREATED:20240815T052508Z
LAST-MODIFIED:20240822T115604Z
UID:10001663-1724313600-1724346000@highland.edu
SUMMARY:Advisor Walk Ins
DESCRIPTION:
URL:https://highland.edu/event/advisor-walk-ins-197/
LOCATION:Building H First Floor
CATEGORIES:Advising
END:VEVENT
BEGIN:VEVENT
DTSTART;TZID=America/Chicago:20240823T080000
DTEND;TZID=America/Chicago:20240823T160000
DTSTAMP:20260421T084325
CREATED:20240815T052508Z
LAST-MODIFIED:20240823T121009Z
UID:10001664-1724400000-1724428800@highland.edu
SUMMARY:Advisor Walk Ins
DESCRIPTION:
URL:https://highland.edu/event/advisor-walk-ins-198/
LOCATION:Building H First Floor
CATEGORIES:Advising
END:VEVENT
BEGIN:VEVENT
DTSTART;TZID=America/Chicago:20240826T100000
DTEND;TZID=America/Chicago:20240826T120000
DTSTAMP:20260421T084325
CREATED:20240823T121008Z
LAST-MODIFIED:20240826T162514Z
UID:10001706-1724666400-1724673600@highland.edu
SUMMARY:Advisor Walk Ins
DESCRIPTION:
URL:https://highland.edu/event/advisor-walk-ins-199/
LOCATION:Welcome Center H116
CATEGORIES:Advising
END:VEVENT
BEGIN:VEVENT
DTSTART;TZID=America/Chicago:20240827T110000
DTEND;TZID=America/Chicago:20240827T130000
DTSTAMP:20260421T084325
CREATED:20240823T121008Z
LAST-MODIFIED:20240827T162513Z
UID:10001707-1724756400-1724763600@highland.edu
SUMMARY:Advisor Walk Ins
DESCRIPTION:
URL:https://highland.edu/event/advisor-walk-ins-200/
LOCATION:Welcome Center H116
CATEGORIES:Advising
END:VEVENT
BEGIN:VEVENT
DTSTART;TZID=America/Chicago:20240827T143000
DTEND;TZID=America/Chicago:20240827T160000
DTSTAMP:20260421T084325
CREATED:20240823T121008Z
LAST-MODIFIED:20240827T162513Z
UID:10001708-1724769000-1724774400@highland.edu
SUMMARY:Advisor Walk Ins
DESCRIPTION:
URL:https://highland.edu/event/advisor-walk-ins-201/
LOCATION:Welcome Center H116
CATEGORIES:Advising
END:VEVENT
BEGIN:VEVENT
DTSTART;TZID=America/Chicago:20240828T083000
DTEND;TZID=America/Chicago:20240828T100000
DTSTAMP:20260421T084325
CREATED:20240823T121009Z
LAST-MODIFIED:20240827T162513Z
UID:10001709-1724833800-1724839200@highland.edu
SUMMARY:Advisor Walk Ins
DESCRIPTION:
URL:https://highland.edu/event/advisor-walk-ins-202/
LOCATION:Welcome Center H116
CATEGORIES:Advising
END:VEVENT
BEGIN:VEVENT
DTSTART;TZID=America/Chicago:20240828T133000
DTEND;TZID=America/Chicago:20240828T170000
DTSTAMP:20260421T084325
CREATED:20240823T121009Z
LAST-MODIFIED:20240827T162513Z
UID:10001710-1724851800-1724864400@highland.edu
SUMMARY:Advisor Walk Ins
DESCRIPTION:
URL:https://highland.edu/event/advisor-walk-ins-203/
LOCATION:Welcome Center H116
CATEGORIES:Advising
END:VEVENT
BEGIN:VEVENT
DTSTART;TZID=America/Chicago:20240829T080000
DTEND;TZID=America/Chicago:20240829T103000
DTSTAMP:20260421T084325
CREATED:20240823T121009Z
LAST-MODIFIED:20240829T012508Z
UID:10001711-1724918400-1724927400@highland.edu
SUMMARY:Advisor Walk Ins
DESCRIPTION:
URL:https://highland.edu/event/advisor-walk-ins-204/
LOCATION:Welcome Center H116
CATEGORIES:Advising
END:VEVENT
BEGIN:VEVENT
DTSTART;TZID=America/Chicago:20240829T150000
DTEND;TZID=America/Chicago:20240829T170000
DTSTAMP:20260421T084325
CREATED:20240829T001120Z
LAST-MODIFIED:20240829T012508Z
UID:10001732-1724943600-1724950800@highland.edu
SUMMARY:Advisor Walk Ins
DESCRIPTION:
URL:https://highland.edu/event/advisor-walk-ins-209/
LOCATION:Welcome Center H116
CATEGORIES:Advising
END:VEVENT
BEGIN:VEVENT
DTSTART;TZID=America/Chicago:20240830T080000
DTEND;TZID=America/Chicago:20240830T170000
DTSTAMP:20260421T084325
CREATED:20240823T121009Z
LAST-MODIFIED:20240830T012508Z
UID:10001712-1725004800-1725037200@highland.edu
SUMMARY:Advisor Walk Ins
DESCRIPTION:
URL:https://highland.edu/event/advisor-walk-ins-205/
LOCATION:Welcome Center
CATEGORIES:Advising
END:VEVENT
BEGIN:VEVENT
DTSTART;TZID=America/Chicago:20240904T100000
DTEND;TZID=America/Chicago:20240904T113000
DTSTAMP:20260421T084325
CREATED:20240831T012518Z
LAST-MODIFIED:20240903T014010Z
UID:10001733-1725444000-1725449400@highland.edu
SUMMARY:Advisor Walk Ins
DESCRIPTION:
URL:https://highland.edu/event/advisor-walk-ins-210/
LOCATION:Welcome Center H116
CATEGORIES:Advising
END:VEVENT
BEGIN:VEVENT
DTSTART;TZID=America/Chicago:20240904T123000
DTEND;TZID=America/Chicago:20240904T140000
DTSTAMP:20260421T084325
CREATED:20240904T171202Z
LAST-MODIFIED:20240904T181225Z
UID:10001749-1725453000-1725458400@highland.edu
SUMMARY:Advisor Walk Ins
DESCRIPTION:
URL:https://highland.edu/event/advisor-walk-ins-213/
LOCATION:Welcome Center H116
CATEGORIES:Advising
END:VEVENT
BEGIN:VEVENT
DTSTART;TZID=America/Chicago:20240905T090000
DTEND;TZID=America/Chicago:20240905T110000
DTSTAMP:20260421T084325
CREATED:20240904T171203Z
LAST-MODIFIED:20240904T181225Z
UID:10001750-1725526800-1725534000@highland.edu
SUMMARY:Advisor Walk Ins
DESCRIPTION:
URL:https://highland.edu/event/advisor-walk-ins-214/
LOCATION:Welcome Center H116
CATEGORIES:Advising
END:VEVENT
BEGIN:VEVENT
DTSTART;TZID=America/Chicago:20240905T130000
DTEND;TZID=America/Chicago:20240905T143000
DTSTAMP:20260421T084325
CREATED:20240831T012518Z
LAST-MODIFIED:20240904T181225Z
UID:10001734-1725541200-1725546600@highland.edu
SUMMARY:Advisor Walk Ins
DESCRIPTION:
URL:https://highland.edu/event/advisor-walk-ins-211/
LOCATION:Welcome Center H116
CATEGORIES:Advising
END:VEVENT
BEGIN:VEVENT
DTSTART;TZID=America/Chicago:20240906T100000
DTEND;TZID=America/Chicago:20240906T140000
DTSTAMP:20260421T084325
CREATED:20240831T012518Z
LAST-MODIFIED:20240906T012718Z
UID:10001735-1725616800-1725631200@highland.edu
SUMMARY:Advisor Walk Ins
DESCRIPTION:
URL:https://highland.edu/event/advisor-walk-ins-212/
LOCATION:Welcome Center H116
CATEGORIES:Advising
END:VEVENT
BEGIN:VEVENT
DTSTART;TZID=America/Chicago:20240910T080000
DTEND;TZID=America/Chicago:20240910T090000
DTSTAMP:20260421T084325
CREATED:20240910T014011Z
LAST-MODIFIED:20240910T014014Z
UID:10001757-1725955200-1725958800@highland.edu
SUMMARY:Advisor Walk Ins
DESCRIPTION:
URL:https://highland.edu/event/advisor-walk-ins-215/
LOCATION:Welcome Center H116
CATEGORIES:Advising
END:VEVENT
BEGIN:VEVENT
DTSTART;TZID=America/Chicago:20240910T113000
DTEND;TZID=America/Chicago:20240910T123000
DTSTAMP:20260421T084325
CREATED:20240910T014011Z
LAST-MODIFIED:20240910T014014Z
UID:10001758-1725967800-1725971400@highland.edu
SUMMARY:Advisor Walk Ins
DESCRIPTION:
URL:https://highland.edu/event/advisor-walk-ins-216/
LOCATION:Welcome Center H116
CATEGORIES:Advising
END:VEVENT
BEGIN:VEVENT
DTSTART;TZID=America/Chicago:20240910T140000
DTEND;TZID=America/Chicago:20240910T150000
DTSTAMP:20260421T084325
CREATED:20240910T014011Z
LAST-MODIFIED:20240910T014014Z
UID:10001759-1725976800-1725980400@highland.edu
SUMMARY:Advisor Walk Ins
DESCRIPTION:
URL:https://highland.edu/event/advisor-walk-ins-217/
LOCATION:Welcome Center H116
CATEGORIES:Advising
END:VEVENT
BEGIN:VEVENT
DTSTART;TZID=America/Chicago:20240911T080000
DTEND;TZID=America/Chicago:20240911T100000
DTSTAMP:20260421T084325
CREATED:20240910T014011Z
LAST-MODIFIED:20240911T015546Z
UID:10001760-1726041600-1726048800@highland.edu
SUMMARY:Advisor Walk Ins
DESCRIPTION:
URL:https://highland.edu/event/advisor-walk-ins-218/
LOCATION:Welcome Center H116
CATEGORIES:Advising
END:VEVENT
BEGIN:VEVENT
DTSTART;TZID=America/Chicago:20240911T110000
DTEND;TZID=America/Chicago:20240911T120000
DTSTAMP:20260421T084325
CREATED:20240910T014012Z
LAST-MODIFIED:20240911T015546Z
UID:10001761-1726052400-1726056000@highland.edu
SUMMARY:Advisor Walk Ins
DESCRIPTION:
URL:https://highland.edu/event/advisor-walk-ins-219/
LOCATION:Welcome Center H116
CATEGORIES:Advising
END:VEVENT
BEGIN:VEVENT
DTSTART;TZID=America/Chicago:20240911T150000
DTEND;TZID=America/Chicago:20240911T160000
DTSTAMP:20260421T084325
CREATED:20240910T014012Z
LAST-MODIFIED:20240911T015546Z
UID:10001762-1726066800-1726070400@highland.edu
SUMMARY:Advisor Walk Ins
DESCRIPTION:
URL:https://highland.edu/event/advisor-walk-ins-220/
LOCATION:Welcome Center H116
CATEGORIES:Advising
END:VEVENT
END:VCALENDAR