BEGIN:VCALENDAR
VERSION:2.0
PRODID:-//Highland Community College - ECPv6.15.20//NONSGML v1.0//EN
CALSCALE:GREGORIAN
METHOD:PUBLISH
X-ORIGINAL-URL:https://highland.edu
X-WR-CALDESC:Events for Highland Community College
REFRESH-INTERVAL;VALUE=DURATION:PT1H
X-Robots-Tag:noindex
X-PUBLISHED-TTL:PT1H
BEGIN:VTIMEZONE
TZID:America/Chicago
BEGIN:DAYLIGHT
TZOFFSETFROM:-0600
TZOFFSETTO:-0500
TZNAME:CDT
DTSTART:20230312T080000
END:DAYLIGHT
BEGIN:STANDARD
TZOFFSETFROM:-0500
TZOFFSETTO:-0600
TZNAME:CST
DTSTART:20231105T070000
END:STANDARD
BEGIN:DAYLIGHT
TZOFFSETFROM:-0600
TZOFFSETTO:-0500
TZNAME:CDT
DTSTART:20240310T080000
END:DAYLIGHT
BEGIN:STANDARD
TZOFFSETFROM:-0500
TZOFFSETTO:-0600
TZNAME:CST
DTSTART:20241103T070000
END:STANDARD
BEGIN:DAYLIGHT
TZOFFSETFROM:-0600
TZOFFSETTO:-0500
TZNAME:CDT
DTSTART:20250309T080000
END:DAYLIGHT
BEGIN:STANDARD
TZOFFSETFROM:-0500
TZOFFSETTO:-0600
TZNAME:CST
DTSTART:20251102T070000
END:STANDARD
END:VTIMEZONE
BEGIN:VEVENT
DTSTART;TZID=America/Chicago:20240125T080000
DTEND;TZID=America/Chicago:20240125T130000
DTSTAMP:20260424T153404
CREATED:20240120T065507Z
LAST-MODIFIED:20240120T065507Z
UID:10000605-1706169600-1706187600@highland.edu
SUMMARY:Advisor Walk Ins
DESCRIPTION:
URL:https://highland.edu/event/advisor-walk-ins-100/
LOCATION:Student Services H-116A
CATEGORIES:Advising
END:VEVENT
BEGIN:VEVENT
DTSTART;TZID=America/Chicago:20240126T090000
DTEND;TZID=America/Chicago:20240126T113000
DTSTAMP:20260424T153404
CREATED:20240123T074005Z
LAST-MODIFIED:20240123T074005Z
UID:10000612-1706259600-1706268600@highland.edu
SUMMARY:Advisor Walk Ins
DESCRIPTION:
URL:https://highland.edu/event/advisor-walk-ins-107/
LOCATION:Student Services H-116A
CATEGORIES:Advising
END:VEVENT
BEGIN:VEVENT
DTSTART;TZID=America/Chicago:20240126T130000
DTEND;TZID=America/Chicago:20240126T170000
DTSTAMP:20260424T153404
CREATED:20240120T065507Z
LAST-MODIFIED:20240120T065507Z
UID:10000606-1706274000-1706288400@highland.edu
SUMMARY:Advisor Walk Ins
DESCRIPTION:
URL:https://highland.edu/event/advisor-walk-ins-101/
LOCATION:Student Services H-116A
CATEGORIES:Advising
END:VEVENT
BEGIN:VEVENT
DTSTART;TZID=America/Chicago:20240129T100000
DTEND;TZID=America/Chicago:20240129T170000
DTSTAMP:20260424T153404
CREATED:20240127T081010Z
LAST-MODIFIED:20240127T081010Z
UID:10000636-1706522400-1706547600@highland.edu
SUMMARY:Advisor Walk Ins
DESCRIPTION:
URL:https://highland.edu/event/advisor-walk-ins-108/
LOCATION:Student Services H-116A
CATEGORIES:Advising
END:VEVENT
BEGIN:VEVENT
DTSTART;TZID=America/Chicago:20240130T083000
DTEND;TZID=America/Chicago:20240130T110000
DTSTAMP:20260424T153404
CREATED:20240127T081010Z
LAST-MODIFIED:20240127T081010Z
UID:10000637-1706603400-1706612400@highland.edu
SUMMARY:Advisor Walk Ins
DESCRIPTION:
URL:https://highland.edu/event/advisor-walk-ins-109/
LOCATION:Student Services H-116A
CATEGORIES:Advising
END:VEVENT
BEGIN:VEVENT
DTSTART;TZID=America/Chicago:20240130T120000
DTEND;TZID=America/Chicago:20240130T140000
DTSTAMP:20260424T153404
CREATED:20240127T081010Z
LAST-MODIFIED:20240127T081010Z
UID:10000638-1706616000-1706623200@highland.edu
SUMMARY:Advisor Walk Ins
DESCRIPTION:
URL:https://highland.edu/event/advisor-walk-ins-110/
LOCATION:Student Services H-116A
CATEGORIES:Advising
END:VEVENT
BEGIN:VEVENT
DTSTART;TZID=America/Chicago:20240131T090000
DTEND;TZID=America/Chicago:20240131T103000
DTSTAMP:20260424T153404
CREATED:20240127T081010Z
LAST-MODIFIED:20240127T081010Z
UID:10000639-1706691600-1706697000@highland.edu
SUMMARY:Advisor Walk Ins
DESCRIPTION:
URL:https://highland.edu/event/advisor-walk-ins-111/
LOCATION:Student Services
CATEGORIES:Advising
END:VEVENT
BEGIN:VEVENT
DTSTART;TZID=America/Chicago:20240131T140000
DTEND;TZID=America/Chicago:20240131T163000
DTSTAMP:20260424T153404
CREATED:20240127T081011Z
LAST-MODIFIED:20240127T081011Z
UID:10000640-1706709600-1706718600@highland.edu
SUMMARY:Advisor Walk Ins
DESCRIPTION:
URL:https://highland.edu/event/advisor-walk-ins-112/
LOCATION:Student Services H-116A
CATEGORIES:Advising
END:VEVENT
BEGIN:VEVENT
DTSTART;TZID=America/Chicago:20240201T103000
DTEND;TZID=America/Chicago:20240201T153000
DTSTAMP:20260424T153404
CREATED:20240130T081006Z
LAST-MODIFIED:20240130T081006Z
UID:10000646-1706783400-1706801400@highland.edu
SUMMARY:Advisor Walk Ins
DESCRIPTION:
URL:https://highland.edu/event/advisor-walk-ins-113/
LOCATION:Student Services H-116A
CATEGORIES:Advising
END:VEVENT
BEGIN:VEVENT
DTSTART;TZID=America/Chicago:20240202T103000
DTEND;TZID=America/Chicago:20240202T120000
DTSTAMP:20260424T153404
CREATED:20240130T081006Z
LAST-MODIFIED:20240130T081006Z
UID:10000647-1706869800-1706875200@highland.edu
SUMMARY:Advisor Walk Ins
DESCRIPTION:
URL:https://highland.edu/event/advisor-walk-ins-114/
LOCATION:Student Services H-116A
CATEGORIES:Advising
END:VEVENT
BEGIN:VEVENT
DTSTART;TZID=America/Chicago:20240202T143000
DTEND;TZID=America/Chicago:20240202T160000
DTSTAMP:20260424T153404
CREATED:20240130T081006Z
LAST-MODIFIED:20240130T081006Z
UID:10000648-1706884200-1706889600@highland.edu
SUMMARY:Advisor Walk Ins
DESCRIPTION:
URL:https://highland.edu/event/advisor-walk-ins-115/
LOCATION:Student Services H-116A
CATEGORIES:Advising
END:VEVENT
BEGIN:VEVENT
DTSTART;TZID=America/Chicago:20240205T130000
DTEND;TZID=America/Chicago:20240205T160000
DTSTAMP:20260424T153404
CREATED:20240203T081006Z
LAST-MODIFIED:20240203T081006Z
UID:10000652-1707138000-1707148800@highland.edu
SUMMARY:Advisor Walk Ins
DESCRIPTION:
URL:https://highland.edu/event/advisor-walk-ins-116/
LOCATION:Student Services H-116A
CATEGORIES:Advising
END:VEVENT
BEGIN:VEVENT
DTSTART;TZID=America/Chicago:20240205T153000
DTEND;TZID=America/Chicago:20240205T163000
DTSTAMP:20260424T153404
CREATED:20230816T183605Z
LAST-MODIFIED:20230816T183605Z
UID:10000020-1707147000-1707150600@highland.edu
SUMMARY:Office Closed for Meeting
DESCRIPTION:
URL:https://highland.edu/event/office-closed-for-meeting-7/
CATEGORIES:Advising
END:VEVENT
BEGIN:VEVENT
DTSTART;TZID=America/Chicago:20240206T100000
DTEND;TZID=America/Chicago:20240206T130000
DTSTAMP:20260424T153404
CREATED:20240203T081006Z
LAST-MODIFIED:20240203T081006Z
UID:10000653-1707213600-1707224400@highland.edu
SUMMARY:Advisor Walk Ins
DESCRIPTION:
URL:https://highland.edu/event/advisor-walk-ins-117/
LOCATION:Student Services H-116A
CATEGORIES:Advising
END:VEVENT
BEGIN:VEVENT
DTSTART;TZID=America/Chicago:20240207T100000
DTEND;TZID=America/Chicago:20240207T140000
DTSTAMP:20260424T153404
CREATED:20240203T081006Z
LAST-MODIFIED:20240203T081006Z
UID:10000654-1707300000-1707314400@highland.edu
SUMMARY:Advisor Walk Ins
DESCRIPTION:
URL:https://highland.edu/event/advisor-walk-ins-118/
LOCATION:Student Services H-116A
CATEGORIES:Advising
END:VEVENT
BEGIN:VEVENT
DTSTART;TZID=America/Chicago:20240207T130000
DTEND;TZID=America/Chicago:20240207T140000
DTSTAMP:20260424T153404
CREATED:20240206T081008Z
LAST-MODIFIED:20240206T081008Z
UID:10000658-1707310800-1707314400@highland.edu
SUMMARY:Advisor Walk Ins
DESCRIPTION:
URL:https://highland.edu/event/advisor-walk-ins-122/
LOCATION:Student Services H-116A
CATEGORIES:Advising
END:VEVENT
BEGIN:VEVENT
DTSTART;TZID=America/Chicago:20240207T150000
DTEND;TZID=America/Chicago:20240207T163000
DTSTAMP:20260424T153404
CREATED:20240207T081003Z
LAST-MODIFIED:20240207T081003Z
UID:10000659-1707318000-1707323400@highland.edu
SUMMARY:Advisor Walk Ins
DESCRIPTION:
URL:https://highland.edu/event/advisor-walk-ins-123/
LOCATION:Student Services H-116A
CATEGORIES:Advising
END:VEVENT
BEGIN:VEVENT
DTSTART;TZID=America/Chicago:20240208T103000
DTEND;TZID=America/Chicago:20240208T130000
DTSTAMP:20260424T153404
CREATED:20240203T081006Z
LAST-MODIFIED:20240203T081006Z
UID:10000655-1707388200-1707397200@highland.edu
SUMMARY:Advisor Walk Ins
DESCRIPTION:
URL:https://highland.edu/event/advisor-walk-ins-119/
LOCATION:Student Services H-116A
CATEGORIES:Advising
END:VEVENT
BEGIN:VEVENT
DTSTART;TZID=America/Chicago:20240208T133000
DTEND;TZID=America/Chicago:20240208T163000
DTSTAMP:20260424T153404
CREATED:20240203T081007Z
LAST-MODIFIED:20240203T081007Z
UID:10000656-1707399000-1707409800@highland.edu
SUMMARY:Advisor Walk Ins
DESCRIPTION:
URL:https://highland.edu/event/advisor-walk-ins-120/
LOCATION:Student Services H-116A
CATEGORIES:Advising
END:VEVENT
BEGIN:VEVENT
DTSTART;TZID=America/Chicago:20240209T140000
DTEND;TZID=America/Chicago:20240209T150000
DTSTAMP:20260424T153404
CREATED:20240203T081007Z
LAST-MODIFIED:20240203T081007Z
UID:10000657-1707487200-1707490800@highland.edu
SUMMARY:Advisor Walk Ins
DESCRIPTION:
URL:https://highland.edu/event/advisor-walk-ins-121/
LOCATION:Student Services H-116A
CATEGORIES:Advising
END:VEVENT
BEGIN:VEVENT
DTSTART;TZID=America/Chicago:20240213T110000
DTEND;TZID=America/Chicago:20240213T130000
DTSTAMP:20260424T153404
CREATED:20240210T082518Z
LAST-MODIFIED:20240210T082518Z
UID:10000661-1707822000-1707829200@highland.edu
SUMMARY:Advisor Walk Ins
DESCRIPTION:
URL:https://highland.edu/event/advisor-walk-ins-124/
LOCATION:Student Services H-116A
CATEGORIES:Advising
END:VEVENT
BEGIN:VEVENT
DTSTART;TZID=America/Chicago:20240213T133000
DTEND;TZID=America/Chicago:20240213T150000
DTSTAMP:20260424T153404
CREATED:20240210T082518Z
LAST-MODIFIED:20240210T082518Z
UID:10000662-1707831000-1707836400@highland.edu
SUMMARY:Advisor Walk Ins
DESCRIPTION:
URL:https://highland.edu/event/advisor-walk-ins-125/
LOCATION:Student Services H-116A
CATEGORIES:Advising
END:VEVENT
BEGIN:VEVENT
DTSTART;TZID=America/Chicago:20240214T093000
DTEND;TZID=America/Chicago:20240214T113000
DTSTAMP:20260424T153404
CREATED:20240210T082518Z
LAST-MODIFIED:20240210T082518Z
UID:10000663-1707903000-1707910200@highland.edu
SUMMARY:Advisor Walk Ins
DESCRIPTION:
URL:https://highland.edu/event/advisor-walk-ins-126/
LOCATION:Student Services H-116A
CATEGORIES:Advising
END:VEVENT
BEGIN:VEVENT
DTSTART;TZID=America/Chicago:20240214T130000
DTEND;TZID=America/Chicago:20240214T153000
DTSTAMP:20260424T153404
CREATED:20240210T082518Z
LAST-MODIFIED:20240210T082518Z
UID:10000664-1707915600-1707924600@highland.edu
SUMMARY:Advisor Walk Ins
DESCRIPTION:
URL:https://highland.edu/event/advisor-walk-ins-127/
LOCATION:Student Services H-116A
CATEGORIES:Advising
END:VEVENT
BEGIN:VEVENT
DTSTART;TZID=America/Chicago:20240215T100000
DTEND;TZID=America/Chicago:20240215T130000
DTSTAMP:20260424T153404
CREATED:20240210T082518Z
LAST-MODIFIED:20240210T082518Z
UID:10000665-1707991200-1708002000@highland.edu
SUMMARY:Advisor Walk Ins
DESCRIPTION:
URL:https://highland.edu/event/advisor-walk-ins-128/
LOCATION:Student Services
CATEGORIES:Advising
END:VEVENT
BEGIN:VEVENT
DTSTART;TZID=America/Chicago:20240215T140000
DTEND;TZID=America/Chicago:20240215T153000
DTSTAMP:20260424T153404
CREATED:20240210T082519Z
LAST-MODIFIED:20240210T082519Z
UID:10000666-1708005600-1708011000@highland.edu
SUMMARY:Advisor Walk Ins
DESCRIPTION:
URL:https://highland.edu/event/advisor-walk-ins-129/
LOCATION:Student Services H-116A
CATEGORIES:Advising
END:VEVENT
BEGIN:VEVENT
DTSTART;TZID=America/Chicago:20240216T090000
DTEND;TZID=America/Chicago:20240216T120000
DTSTAMP:20260424T153404
CREATED:20240210T082519Z
LAST-MODIFIED:20240210T082519Z
UID:10000667-1708074000-1708084800@highland.edu
SUMMARY:Advisor Walk Ins
DESCRIPTION:
URL:https://highland.edu/event/advisor-walk-ins-130/
LOCATION:Student Services H-116A
CATEGORIES:Advising
END:VEVENT
BEGIN:VEVENT
DTSTART;TZID=America/Chicago:20240216T123000
DTEND;TZID=America/Chicago:20240216T160000
DTSTAMP:20260424T153404
CREATED:20240210T082519Z
LAST-MODIFIED:20240210T082519Z
UID:10000668-1708086600-1708099200@highland.edu
SUMMARY:Advisor Walk Ins
DESCRIPTION:
URL:https://highland.edu/event/advisor-walk-ins-131/
LOCATION:Student Services
CATEGORIES:Advising
END:VEVENT
BEGIN:VEVENT
DTSTART;TZID=America/Chicago:20240223T093000
DTEND;TZID=America/Chicago:20240223T120000
DTSTAMP:20260424T153404
CREATED:20240217T085504Z
LAST-MODIFIED:20240217T085504Z
UID:10000673-1708680600-1708689600@highland.edu
SUMMARY:Advisor Walk Ins
DESCRIPTION:
URL:https://highland.edu/event/advisor-walk-ins-132/
LOCATION:Student Services H-116A
CATEGORIES:Advising
END:VEVENT
BEGIN:VEVENT
DTSTART;TZID=America/Chicago:20240227T080000
DTEND;TZID=America/Chicago:20240227T170000
DTSTAMP:20260424T153404
CREATED:20230926T101019Z
LAST-MODIFIED:20240226T154303Z
UID:10000291-1709020800-1709053200@highland.edu
SUMMARY:Express Registration
DESCRIPTION:Leap into summer classes! \nAt Highland\, you’ll find one of the lowest tuition rates in the state. And as a Cougar\, you’ll have 200-plus scholarships at your fingertips. \nGet friendly financial aid advice and one-stop support for all you need to start here this year: Meet with an advisor\, take necessary placement tests and register for classes!
URL:https://highland.edu/event/express-registration-2/
LOCATION:H-116A
CATEGORIES:Advising
END:VEVENT
END:VCALENDAR