BEGIN:VCALENDAR
VERSION:2.0
PRODID:-//Highland Community College - ECPv6.15.20//NONSGML v1.0//EN
CALSCALE:GREGORIAN
METHOD:PUBLISH
X-ORIGINAL-URL:https://highland.edu
X-WR-CALDESC:Events for Highland Community College
REFRESH-INTERVAL;VALUE=DURATION:PT1H
X-Robots-Tag:noindex
X-PUBLISHED-TTL:PT1H
BEGIN:VTIMEZONE
TZID:America/Chicago
BEGIN:DAYLIGHT
TZOFFSETFROM:-0600
TZOFFSETTO:-0500
TZNAME:CDT
DTSTART:20250309T080000
END:DAYLIGHT
BEGIN:STANDARD
TZOFFSETFROM:-0500
TZOFFSETTO:-0600
TZNAME:CST
DTSTART:20251102T070000
END:STANDARD
BEGIN:DAYLIGHT
TZOFFSETFROM:-0600
TZOFFSETTO:-0500
TZNAME:CDT
DTSTART:20260308T080000
END:DAYLIGHT
BEGIN:STANDARD
TZOFFSETFROM:-0500
TZOFFSETTO:-0600
TZNAME:CST
DTSTART:20261101T070000
END:STANDARD
BEGIN:DAYLIGHT
TZOFFSETFROM:-0600
TZOFFSETTO:-0500
TZNAME:CDT
DTSTART:20270314T080000
END:DAYLIGHT
BEGIN:STANDARD
TZOFFSETFROM:-0500
TZOFFSETTO:-0600
TZNAME:CST
DTSTART:20271107T070000
END:STANDARD
END:VTIMEZONE
BEGIN:VEVENT
DTSTART;TZID=America/Chicago:20260602T100000
DTEND;TZID=America/Chicago:20260602T140000
DTSTAMP:20260422T113928
CREATED:20251211T164024Z
LAST-MODIFIED:20260422T162714Z
UID:10002836-1780394400-1780408800@highland.edu
SUMMARY:Finger Printing
DESCRIPTION:For more information contact Accurate Biometrics at  www.accuratebiometrics.com( http://www.accuratebiometrics.com/) .
URL:https://highland.edu/event/finger-printing-67/
LOCATION:Student/Conference Center Bldg H\, Room H-209
CATEGORIES:Conference Center
END:VEVENT
BEGIN:VEVENT
DTSTART;TZID=America/Chicago:20260616T100000
DTEND;TZID=America/Chicago:20260616T140000
DTSTAMP:20260422T113928
CREATED:20251211T164024Z
LAST-MODIFIED:20260422T162714Z
UID:10002837-1781604000-1781618400@highland.edu
SUMMARY:Finger Printing
DESCRIPTION:For more information contact Accurate Biometrics at  www.accuratebiometrics.com( http://www.accuratebiometrics.com/) .
URL:https://highland.edu/event/finger-printing-68/
LOCATION:Student/Conference Center Bldg H\, Room H-209
CATEGORIES:Conference Center
END:VEVENT
BEGIN:VEVENT
DTSTART;TZID=America/Chicago:20260630T100000
DTEND;TZID=America/Chicago:20260630T140000
DTSTAMP:20260422T113928
CREATED:20251211T164025Z
LAST-MODIFIED:20260422T162714Z
UID:10002838-1782813600-1782828000@highland.edu
SUMMARY:Finger Printing
DESCRIPTION:For more information contact Accurate Biometrics at  www.accuratebiometrics.com( http://www.accuratebiometrics.com/) .
URL:https://highland.edu/event/finger-printing-69/
LOCATION:Student/Conference Center Bldg H\, Room H-209
CATEGORIES:Conference Center
END:VEVENT
END:VCALENDAR