BEGIN:VCALENDAR
VERSION:2.0
PRODID:-//Highland Community College - ECPv6.15.20//NONSGML v1.0//EN
CALSCALE:GREGORIAN
METHOD:PUBLISH
X-WR-CALNAME:Highland Community College
X-ORIGINAL-URL:https://highland.edu
X-WR-CALDESC:Events for Highland Community College
REFRESH-INTERVAL;VALUE=DURATION:PT1H
X-Robots-Tag:noindex
X-PUBLISHED-TTL:PT1H
BEGIN:VTIMEZONE
TZID:America/Chicago
BEGIN:DAYLIGHT
TZOFFSETFROM:-0600
TZOFFSETTO:-0500
TZNAME:CDT
DTSTART:20250309T080000
END:DAYLIGHT
BEGIN:STANDARD
TZOFFSETFROM:-0500
TZOFFSETTO:-0600
TZNAME:CST
DTSTART:20251102T070000
END:STANDARD
BEGIN:DAYLIGHT
TZOFFSETFROM:-0600
TZOFFSETTO:-0500
TZNAME:CDT
DTSTART:20260308T080000
END:DAYLIGHT
BEGIN:STANDARD
TZOFFSETFROM:-0500
TZOFFSETTO:-0600
TZNAME:CST
DTSTART:20261101T070000
END:STANDARD
BEGIN:DAYLIGHT
TZOFFSETFROM:-0600
TZOFFSETTO:-0500
TZNAME:CDT
DTSTART:20270314T080000
END:DAYLIGHT
BEGIN:STANDARD
TZOFFSETFROM:-0500
TZOFFSETTO:-0600
TZNAME:CST
DTSTART:20271107T070000
END:STANDARD
END:VTIMEZONE
BEGIN:VEVENT
DTSTART;TZID=America/Chicago:20261006T100000
DTEND;TZID=America/Chicago:20261006T140000
DTSTAMP:20260422T175017
CREATED:20251211T164028Z
LAST-MODIFIED:20260422T172715Z
UID:10002845-1791280800-1791295200@highland.edu
SUMMARY:Finger Printing
DESCRIPTION:For more information contact Accurate Biometrics at  www.accuratebiometrics.com( http://www.accuratebiometrics.com/) .
URL:https://highland.edu/event/finger-printing-76/
LOCATION:Student/Conference Center Bldg H\, Room H-209
CATEGORIES:Conference Center
END:VEVENT
BEGIN:VEVENT
DTSTART;TZID=America/Chicago:20261020T100000
DTEND;TZID=America/Chicago:20261020T140000
DTSTAMP:20260422T175017
CREATED:20251211T164041Z
LAST-MODIFIED:20260422T172716Z
UID:10002846-1792490400-1792504800@highland.edu
SUMMARY:Finger Printing
DESCRIPTION:For more information contact Accurate Biometrics at  www.accuratebiometrics.com( http://www.accuratebiometrics.com/) .
URL:https://highland.edu/event/finger-printing-77/
LOCATION:Student/Conference Center Bldg H\, Room H-209
CATEGORIES:Conference Center
END:VEVENT
END:VCALENDAR