BEGIN:VCALENDAR
VERSION:2.0
PRODID:-//Highland Community College - ECPv6.15.20//NONSGML v1.0//EN
CALSCALE:GREGORIAN
METHOD:PUBLISH
X-WR-CALNAME:Highland Community College
X-ORIGINAL-URL:https://highland.edu
X-WR-CALDESC:Events for Highland Community College
REFRESH-INTERVAL;VALUE=DURATION:PT1H
X-Robots-Tag:noindex
X-PUBLISHED-TTL:PT1H
BEGIN:VTIMEZONE
TZID:America/Chicago
BEGIN:DAYLIGHT
TZOFFSETFROM:-0600
TZOFFSETTO:-0500
TZNAME:CDT
DTSTART:20240310T080000
END:DAYLIGHT
BEGIN:STANDARD
TZOFFSETFROM:-0500
TZOFFSETTO:-0600
TZNAME:CST
DTSTART:20241103T070000
END:STANDARD
BEGIN:DAYLIGHT
TZOFFSETFROM:-0600
TZOFFSETTO:-0500
TZNAME:CDT
DTSTART:20250309T080000
END:DAYLIGHT
BEGIN:STANDARD
TZOFFSETFROM:-0500
TZOFFSETTO:-0600
TZNAME:CST
DTSTART:20251102T070000
END:STANDARD
BEGIN:DAYLIGHT
TZOFFSETFROM:-0600
TZOFFSETTO:-0500
TZNAME:CDT
DTSTART:20260308T080000
END:DAYLIGHT
BEGIN:STANDARD
TZOFFSETFROM:-0500
TZOFFSETTO:-0600
TZNAME:CST
DTSTART:20261101T070000
END:STANDARD
END:VTIMEZONE
BEGIN:VEVENT
DTSTART;TZID=America/Chicago:20251003T190000
DTEND;TZID=America/Chicago:20251003T203000
DTSTAMP:20260420T125320
CREATED:20250911T164017Z
LAST-MODIFIED:20251003T234130Z
UID:10002776-1759518000-1759523400@highland.edu
SUMMARY:Criminal Minds
DESCRIPTION:This humorous\, compelling play is set at an abandoned mini golf course. An ex convict\, his long suffering wife\, and an escapee named Renfro are hiding out. The husband is convinced Renfro is a criminal genius\, even though it is impossible for him to remember anything longer than 30 seconds. The play is a series of hilarious episodes in which they try to help Renfro remember so they can employ his talents to strike it rich. Eventually\, they succeed only too well.  \nTickets( http://highland.edu/boxoffice)  can be purchased starting 1 p.m on Monday\, September 9th. \nAdults: $12Seniors (60+): $10Students: $5Any K-12 or full-time student qualifies for the student price.
URL:https://highland.edu/event/criminal-minds/
LOCATION:Ferguson Fine Arts Center
CATEGORIES:Fine Arts
END:VEVENT
BEGIN:VEVENT
DTSTART;TZID=America/Chicago:20251004T190000
DTEND;TZID=America/Chicago:20251004T203000
DTSTAMP:20260420T125320
CREATED:20250911T164017Z
LAST-MODIFIED:20251004T235848Z
UID:10002777-1759604400-1759609800@highland.edu
SUMMARY:Criminal Minds
DESCRIPTION:This humorous\, compelling play is set at an abandoned mini golf course. An ex convict\, his long suffering wife\, and an escapee named Renfro are hiding out. The husband is convinced Renfro is a criminal genius\, even though it is impossible for him to remember anything longer than 30 seconds. The play is a series of hilarious episodes in which they try to help Renfro remember so they can employ his talents to strike it rich. Eventually\, they succeed only too well.  \nTickets( http://highland.edu/boxoffice)  can be purchased starting 1 p.m on Monday\, September 9th. \nAdults: $12Seniors (60+): $10Students: $5Any K-12 or full-time student qualifies for the student price.
URL:https://highland.edu/event/criminal-minds-2/
LOCATION:Ferguson Fine Arts Center
CATEGORIES:Fine Arts
END:VEVENT
BEGIN:VEVENT
DTSTART;TZID=America/Chicago:20251005T150000
DTEND;TZID=America/Chicago:20251005T163000
DTSTAMP:20260420T125320
CREATED:20250911T164018Z
LAST-MODIFIED:20251004T235848Z
UID:10002778-1759676400-1759681800@highland.edu
SUMMARY:Criminal Minds
DESCRIPTION:This humorous\, compelling play is set at an abandoned mini golf course. An ex convict\, his long suffering wife\, and an escapee named Renfro are hiding out. The husband is convinced Renfro is a criminal genius\, even though it is impossible for him to remember anything longer than 30 seconds. The play is a series of hilarious episodes in which they try to help Renfro remember so they can employ his talents to strike it rich. Eventually\, they succeed only too well.  \nTickets( http://highland.edu/boxoffice)  can be purchased starting 1 p.m on Monday\, September 9th. \nAdults: $12Seniors (60+): $10Students: $5Any K-12 or full-time student qualifies for the student price.
URL:https://highland.edu/event/criminal-minds-3/
LOCATION:Ferguson Fine Arts Center
CATEGORIES:Fine Arts
END:VEVENT
BEGIN:VEVENT
DTSTART;TZID=America/Chicago:20251026T150000
DTEND;TZID=America/Chicago:20251026T170000
DTSTAMP:20260420T125320
CREATED:20250911T164018Z
LAST-MODIFIED:20251025T234212Z
UID:10002779-1761490800-1761498000@highland.edu
SUMMARY:From Stage & Screen
DESCRIPTION:Tickets( http://highland.edu/boxoffice)  can be purchased starting 1 p.m on Monday\, September 29th. \nAdults: $12Seniors (60+): $10Students: $5
URL:https://highland.edu/event/from-stage-screen/
LOCATION:Ferguson Fine Arts Center
CATEGORIES:Fine Arts
END:VEVENT
END:VCALENDAR