BEGIN:VCALENDAR
VERSION:2.0
PRODID:-//Highland Community College - ECPv6.15.20//NONSGML v1.0//EN
CALSCALE:GREGORIAN
METHOD:PUBLISH
X-ORIGINAL-URL:https://highland.edu
X-WR-CALDESC:Events for Highland Community College
REFRESH-INTERVAL;VALUE=DURATION:PT1H
X-Robots-Tag:noindex
X-PUBLISHED-TTL:PT1H
BEGIN:VTIMEZONE
TZID:America/Chicago
BEGIN:DAYLIGHT
TZOFFSETFROM:-0600
TZOFFSETTO:-0500
TZNAME:CDT
DTSTART:20230312T080000
END:DAYLIGHT
BEGIN:STANDARD
TZOFFSETFROM:-0500
TZOFFSETTO:-0600
TZNAME:CST
DTSTART:20231105T070000
END:STANDARD
BEGIN:DAYLIGHT
TZOFFSETFROM:-0600
TZOFFSETTO:-0500
TZNAME:CDT
DTSTART:20240310T080000
END:DAYLIGHT
BEGIN:STANDARD
TZOFFSETFROM:-0500
TZOFFSETTO:-0600
TZNAME:CST
DTSTART:20241103T070000
END:STANDARD
BEGIN:DAYLIGHT
TZOFFSETFROM:-0600
TZOFFSETTO:-0500
TZNAME:CDT
DTSTART:20250309T080000
END:DAYLIGHT
BEGIN:STANDARD
TZOFFSETFROM:-0500
TZOFFSETTO:-0600
TZNAME:CST
DTSTART:20251102T070000
END:STANDARD
END:VTIMEZONE
BEGIN:VEVENT
DTSTART;TZID=America/Chicago:20240401T141500
DTEND;TZID=America/Chicago:20240401T151500
DTSTAMP:20260422T132146
CREATED:20240125T172511Z
LAST-MODIFIED:20240125T172511Z
UID:10000629-1711980900-1711984500@highland.edu
SUMMARY:Intervarsity (faith based student club)- 2:15pm
DESCRIPTION:
URL:https://highland.edu/event/intervarsity-faith-based-student-club-215pm-13/
LOCATION:H210
CATEGORIES:Student Events
END:VEVENT
BEGIN:VEVENT
DTSTART;TZID=America/Chicago:20240403T083000
DTEND;TZID=America/Chicago:20240403T100000
DTSTAMP:20260422T132146
CREATED:20240112T170046Z
LAST-MODIFIED:20240112T170046Z
UID:10000589-1712133000-1712138400@highland.edu
SUMMARY:Donut Wednesdays
DESCRIPTION:Grab a sweet treat to start your Wednesday!
URL:https://highland.edu/event/donut-wednesdays-4/2024-04-03/
LOCATION:M Lobby
CATEGORIES:Student Events
END:VEVENT
BEGIN:VEVENT
DTSTART;TZID=America/Chicago:20240408T141500
DTEND;TZID=America/Chicago:20240408T151500
DTSTAMP:20260422T132146
CREATED:20240125T172511Z
LAST-MODIFIED:20240125T172511Z
UID:10000630-1712585700-1712589300@highland.edu
SUMMARY:Intervarsity (faith based student club)- 2:15pm
DESCRIPTION:
URL:https://highland.edu/event/intervarsity-faith-based-student-club-215pm-14/
LOCATION:H210
CATEGORIES:Student Events
END:VEVENT
BEGIN:VEVENT
DTSTART;TZID=America/Chicago:20240410T083000
DTEND;TZID=America/Chicago:20240410T100000
DTSTAMP:20260422T132146
CREATED:20240112T170046Z
LAST-MODIFIED:20240112T170046Z
UID:10000590-1712737800-1712743200@highland.edu
SUMMARY:Donut Wednesdays
DESCRIPTION:Grab a sweet treat to start your Wednesday!
URL:https://highland.edu/event/donut-wednesdays-4/2024-04-10/
LOCATION:M Lobby
CATEGORIES:Student Events
END:VEVENT
BEGIN:VEVENT
DTSTART;TZID=America/Chicago:20240411T180000
DTEND;TZID=America/Chicago:20240411T190000
DTSTAMP:20260422T132146
CREATED:20240328T214814Z
LAST-MODIFIED:20240328T214814Z
UID:10001122-1712858400-1712862000@highland.edu
SUMMARY:Global Taskforce Humanities & Culture Panel
DESCRIPTION:Join the Highland Global Taskforce Committee for a panel discussion on humanities\, social justice\, human rights and culture through the lens of history\, business\, languages\, social sciences\, pedagogy\, theatre and literature. \nGet the Zoom™ link here. \nMeeting ID: 951 5588 2381\nPasscode: 442409
URL:https://highland.edu/event/global-taskforce-humanities-culture-panel/
LOCATION:Zoom™
CATEGORIES:Student Events
END:VEVENT
BEGIN:VEVENT
DTSTART;TZID=America/Chicago:20240413T090000
DTEND;TZID=America/Chicago:20240413T130000
DTSTAMP:20260422T132146
CREATED:20240401T215903Z
LAST-MODIFIED:20240401T215903Z
UID:10001125-1712998800-1713013200@highland.edu
SUMMARY:Open House and Express Registration
DESCRIPTION:Meet with staff and instructors from:\n-Admissions\, advising and placement testing\n-Agriculture\n-Automotive Mechanics\n-Business Administration and Marketing\n-CNC/CAD\n-Criminal Justice and Cybersecurity\n-Information Tech/Computer Science\n-Math and Science\n-Welding\n\n\nCan’t make it to this event? Pick a day that works for you!\nCall Advising: 815-599-3573
URL:https://highland.edu/event/open-house-and-express-registration/
LOCATION:H-116A
CATEGORIES:Student Events
END:VEVENT
BEGIN:VEVENT
DTSTART;TZID=America/Chicago:20240415T141500
DTEND;TZID=America/Chicago:20240415T151500
DTSTAMP:20260422T132146
CREATED:20240125T172511Z
LAST-MODIFIED:20240125T172511Z
UID:10000631-1713190500-1713194100@highland.edu
SUMMARY:Intervarsity (faith based student club)- 2:15pm
DESCRIPTION:
URL:https://highland.edu/event/intervarsity-faith-based-student-club-215pm-15/
LOCATION:H210
CATEGORIES:Student Events
END:VEVENT
BEGIN:VEVENT
DTSTART;TZID=America/Chicago:20240416T093000
DTEND;TZID=America/Chicago:20240416T113000
DTSTAMP:20260422T132146
CREATED:20240412T203410Z
LAST-MODIFIED:20240412T203410Z
UID:10001147-1713259800-1713267000@highland.edu
SUMMARY:Boyer Colloquium Student Session: Changing Contours of Cultivation
DESCRIPTION:Join Dr. Michael Woods\, Executive Director of Illinois’ Soil & Water Conservation Districts\, for a presentation exploring the evolution of agricultural production in the United States. Woods will describe how American agriculture has changed over time\, share what it looks like now and speculate how it will continue to evolve as it constantly responds to political\, economic and environmental forces. \nLivestream the event here.
URL:https://highland.edu/event/boyer-colloquium-student-session-changing-contours-of-cultivation/
LOCATION:N-125 or Zoom™
CATEGORIES:Student Events
END:VEVENT
BEGIN:VEVENT
DTSTART;TZID=America/Chicago:20240416T140000
DTEND;TZID=America/Chicago:20240416T150000
DTSTAMP:20260422T132146
CREATED:20240328T214524Z
LAST-MODIFIED:20240328T214524Z
UID:10001121-1713276000-1713279600@highland.edu
SUMMARY:OULIPO! Poetry with Rules
DESCRIPTION:Free your creativity by following some rules! Join Jenna Goldsmith\, Rockford Poet Laureate\, for a workshop celebrating National Poetry Month. We’ll discover Oulipo\, Oulipians and the connection between poetry and mathematics! \nJenna will be available for book signing after the workshop!
URL:https://highland.edu/event/oulipo-poetry-with-rules/
LOCATION:Clarence Mitchell Library
CATEGORIES:Student Events
END:VEVENT
BEGIN:VEVENT
DTSTART;TZID=America/Chicago:20240416T190000
DTEND;TZID=America/Chicago:20240416T210000
DTSTAMP:20260422T132146
CREATED:20240412T181903Z
LAST-MODIFIED:20240412T181903Z
UID:10001146-1713294000-1713301200@highland.edu
SUMMARY:Boyer Colloquium: Changing Contours of Cultivation
DESCRIPTION:Join Dr. Michael Woods\, Executive Director of Illinois’ Soil & Water Conservation Districts\, for a presentation exploring the evolution of agricultural production in the United States. He will describe how American agriculture has changed over time\, share what it looks like now\, and speculate how it will continue to evolve as it constantly responds to political\, economic and environmental forces. \nLivestream the event here.
URL:https://highland.edu/event/boyer-colloquium-changing-contours-of-cultivation/
LOCATION:Student/Conference Center (H-201) and Zoom™
CATEGORIES:Student Events
END:VEVENT
BEGIN:VEVENT
DTSTART;TZID=America/Chicago:20240417T083000
DTEND;TZID=America/Chicago:20240417T100000
DTSTAMP:20260422T132146
CREATED:20240112T170046Z
LAST-MODIFIED:20240112T170046Z
UID:10000591-1713342600-1713348000@highland.edu
SUMMARY:Donut Wednesdays
DESCRIPTION:Grab a sweet treat to start your Wednesday!
URL:https://highland.edu/event/donut-wednesdays-4/2024-04-17/
LOCATION:M Lobby
CATEGORIES:Student Events
END:VEVENT
BEGIN:VEVENT
DTSTART;TZID=America/Chicago:20240418T173000
DTEND;TZID=America/Chicago:20240418T193000
DTSTAMP:20260422T132146
CREATED:20240329T200900Z
LAST-MODIFIED:20240329T200900Z
UID:10001123-1713461400-1713468600@highland.edu
SUMMARY:Early Childhood Celebration! Community Recruitment Event
DESCRIPTION:Bring your family and get connected with: \n\nHCC advisors\nECE faculty and mentor\nHCC financial aid\nECE scholarships\nFour-year colleges\nYWCA-CCRR-Navigator\nChildcare Center Directors\n\nWe’ll have awesome giveaway prizes for our ECE students! \nRSVP to this one-stop-shop event and pizza by Friday\, April 12 to rachel.stewart@highland.edu.
URL:https://highland.edu/event/early-childhood-celebration-community-recruitment-event/
LOCATION:Children’s Hands on Museum – Lincoln Mall\, 1233 West Galena Avenue\, Freeport\, IL\, 61032\, United States
CATEGORIES:Student Events
END:VEVENT
BEGIN:VEVENT
DTSTART;TZID=America/Chicago:20240422T141500
DTEND;TZID=America/Chicago:20240422T151500
DTSTAMP:20260422T132146
CREATED:20240125T172511Z
LAST-MODIFIED:20240125T172511Z
UID:10000632-1713795300-1713798900@highland.edu
SUMMARY:Intervarsity (faith based student club)- 2:15pm
DESCRIPTION:
URL:https://highland.edu/event/intervarsity-faith-based-student-club-215pm-16/
LOCATION:H210
CATEGORIES:Student Events
END:VEVENT
BEGIN:VEVENT
DTSTART;TZID=America/Chicago:20240424T083000
DTEND;TZID=America/Chicago:20240424T100000
DTSTAMP:20260422T132146
CREATED:20240112T170046Z
LAST-MODIFIED:20240112T170046Z
UID:10000592-1713947400-1713952800@highland.edu
SUMMARY:Donut Wednesdays
DESCRIPTION:Grab a sweet treat to start your Wednesday!
URL:https://highland.edu/event/donut-wednesdays-4/2024-04-24/
LOCATION:M Lobby
CATEGORIES:Student Events
END:VEVENT
BEGIN:VEVENT
DTSTART;TZID=America/Chicago:20240425T110000
DTEND;TZID=America/Chicago:20240425T120000
DTSTAMP:20260422T132146
CREATED:20240415T153426Z
LAST-MODIFIED:20240415T153426Z
UID:10001540-1714042800-1714046400@highland.edu
SUMMARY:Joyful Resilience
DESCRIPTION:Conquer obstacles and reach goals with a sense of adventure! \nJoin us for a conversation around sexual assault awareness\, positive reaffirmation and life as a survivor including how to support a survivor. \nSara is a two-time Discovery Channel Survivalist seen on “Naked and Afraid\,” best known for her joyful approach to resilience. A sexual assault survivor and advocate of mental health and holistic wellness\, she uses her Instagram YouTube\, keynotes and coaching practice to help people find joy and strength through her Joyful Resilience Framework and a sense of adventure.
URL:https://highland.edu/event/joyful-resilience/
LOCATION:Cougar Cafe
CATEGORIES:Student Events
END:VEVENT
BEGIN:VEVENT
DTSTART;TZID=America/Chicago:20240429T141500
DTEND;TZID=America/Chicago:20240429T151500
DTSTAMP:20260422T132146
CREATED:20240125T172511Z
LAST-MODIFIED:20240125T172511Z
UID:10000633-1714400100-1714403700@highland.edu
SUMMARY:Intervarsity (faith based student club)- 2:15pm
DESCRIPTION:
URL:https://highland.edu/event/intervarsity-faith-based-student-club-215pm-17/
LOCATION:H210
CATEGORIES:Student Events
END:VEVENT
BEGIN:VEVENT
DTSTART;TZID=America/Chicago:20240430T110000
DTEND;TZID=America/Chicago:20240430T130000
DTSTAMP:20260422T132146
CREATED:20240418T152822Z
LAST-MODIFIED:20240418T152822Z
UID:10001545-1714474800-1714482000@highland.edu
SUMMARY:"Songs to Dream By" Book Signing with Adam Moderow
DESCRIPTION:Join the J. Rosemary Shockey Bookstore and Adam Moderow for the release of his debut collection and book signing! Refreshments will be served.\n\n“Songs to Dream By” is a collection of short stories that blend philosophy\, humor\, introspection\, childlike whimsy\, minimalism and speculative fiction.\n\nModerow is an Eagle Scout with degrees in philosophy\, history and teaching. He teaches developmental reading and GED® courses for Highland.
URL:https://highland.edu/event/songs-to-dream-by-book-signing-with-adam-moderow/
LOCATION:J. Rosemary Shockey Bookstore (H)
CATEGORIES:Student Events
END:VEVENT
END:VCALENDAR