BEGIN:VCALENDAR
VERSION:2.0
PRODID:-//Highland Community College - ECPv6.15.20//NONSGML v1.0//EN
CALSCALE:GREGORIAN
METHOD:PUBLISH
X-ORIGINAL-URL:https://highland.edu
X-WR-CALDESC:Events for Highland Community College
REFRESH-INTERVAL;VALUE=DURATION:PT1H
X-Robots-Tag:noindex
X-PUBLISHED-TTL:PT1H
BEGIN:VTIMEZONE
TZID:America/Chicago
BEGIN:DAYLIGHT
TZOFFSETFROM:-0600
TZOFFSETTO:-0500
TZNAME:CDT
DTSTART:20240310T080000
END:DAYLIGHT
BEGIN:STANDARD
TZOFFSETFROM:-0500
TZOFFSETTO:-0600
TZNAME:CST
DTSTART:20241103T070000
END:STANDARD
BEGIN:DAYLIGHT
TZOFFSETFROM:-0600
TZOFFSETTO:-0500
TZNAME:CDT
DTSTART:20250309T080000
END:DAYLIGHT
BEGIN:STANDARD
TZOFFSETFROM:-0500
TZOFFSETTO:-0600
TZNAME:CST
DTSTART:20251102T070000
END:STANDARD
BEGIN:DAYLIGHT
TZOFFSETFROM:-0600
TZOFFSETTO:-0500
TZNAME:CDT
DTSTART:20260308T080000
END:DAYLIGHT
BEGIN:STANDARD
TZOFFSETFROM:-0500
TZOFFSETTO:-0600
TZNAME:CST
DTSTART:20261101T070000
END:STANDARD
END:VTIMEZONE
BEGIN:VEVENT
DTSTART;TZID=America/Chicago:20251001T110000
DTEND;TZID=America/Chicago:20251001T130000
DTSTAMP:20260424T052012
CREATED:20250723T184119Z
LAST-MODIFIED:20251001T175526Z
UID:10002751-1759316400-1759323600@highland.edu
SUMMARY:Apples with Advisors Cafeteria
DESCRIPTION:Apples with Advisors Cafeteria
URL:https://highland.edu/event/apples-with-advisors-cafeteria-2/
CATEGORIES:Student Events
END:VEVENT
BEGIN:VEVENT
DTSTART;TZID=America/Chicago:20251008T110000
DTEND;TZID=America/Chicago:20251008T130000
DTSTAMP:20260424T052012
CREATED:20250702T221152Z
LAST-MODIFIED:20251008T175549Z
UID:10002667-1759921200-1759928400@highland.edu
SUMMARY:Midway through Midterms
DESCRIPTION:
URL:https://highland.edu/event/midway-through-midterms-35/
LOCATION:M Lobby
CATEGORIES:Student Events
END:VEVENT
BEGIN:VEVENT
DTSTART;TZID=America/Chicago:20251029T140000
DTEND;TZID=America/Chicago:20251029T153000
DTSTAMP:20260424T052012
CREATED:20250702T221153Z
LAST-MODIFIED:20251029T195741Z
UID:10002668-1761746400-1761751800@highland.edu
SUMMARY:Hollywood Murder Mystery Show
DESCRIPTION:
URL:https://highland.edu/event/hollywood-murder-mystery-show/
LOCATION:Cougar Cafe
CATEGORIES:Student Events
END:VEVENT
END:VCALENDAR