BEGIN:VCALENDAR
VERSION:2.0
PRODID:-//Highland Community College - ECPv6.15.20//NONSGML v1.0//EN
CALSCALE:GREGORIAN
METHOD:PUBLISH
X-WR-CALNAME:Highland Community College
X-ORIGINAL-URL:https://highland.edu
X-WR-CALDESC:Events for Highland Community College
REFRESH-INTERVAL;VALUE=DURATION:PT1H
X-Robots-Tag:noindex
X-PUBLISHED-TTL:PT1H
BEGIN:VTIMEZONE
TZID:America/Chicago
BEGIN:DAYLIGHT
TZOFFSETFROM:-0600
TZOFFSETTO:-0500
TZNAME:CDT
DTSTART:20250309T080000
END:DAYLIGHT
BEGIN:STANDARD
TZOFFSETFROM:-0500
TZOFFSETTO:-0600
TZNAME:CST
DTSTART:20251102T070000
END:STANDARD
BEGIN:DAYLIGHT
TZOFFSETFROM:-0600
TZOFFSETTO:-0500
TZNAME:CDT
DTSTART:20260308T080000
END:DAYLIGHT
BEGIN:STANDARD
TZOFFSETFROM:-0500
TZOFFSETTO:-0600
TZNAME:CST
DTSTART:20261101T070000
END:STANDARD
BEGIN:DAYLIGHT
TZOFFSETFROM:-0600
TZOFFSETTO:-0500
TZNAME:CDT
DTSTART:20270314T080000
END:DAYLIGHT
BEGIN:STANDARD
TZOFFSETFROM:-0500
TZOFFSETTO:-0600
TZNAME:CST
DTSTART:20271107T070000
END:STANDARD
END:VTIMEZONE
BEGIN:VEVENT
DTSTART;TZID=America/Chicago:20260112T083000
DTEND;TZID=America/Chicago:20260112T140000
DTSTAMP:20260424T120616
CREATED:20250702T221156Z
LAST-MODIFIED:20260112T194249Z
UID:10002670-1768206600-1768226400@highland.edu
SUMMARY:Welcome Back popcorn & hot cocoa
DESCRIPTION:
URL:https://highland.edu/event/welcome-back-popcorn-hot-cocoa/
LOCATION:M Lobby
CATEGORIES:Student Events
END:VEVENT
BEGIN:VEVENT
DTSTART;TZID=America/Chicago:20260126T160000
DTEND;TZID=America/Chicago:20260126T170000
DTSTAMP:20260424T120616
CREATED:20260121T184007Z
LAST-MODIFIED:20260126T225743Z
UID:10002883-1769443200-1769446800@highland.edu
SUMMARY:Intent to Graduate forms  due for ALL Spring 2026 graduates and Summer 2026 participants
DESCRIPTION:
URL:https://highland.edu/event/intent-to-graduate-forms-due-for-all-spring-2026-graduates-and-summer-2026-participants/
LOCATION:Building H – 2nd floor – apply for graduation – Records and Registration
CATEGORIES:Student Events
END:VEVENT
BEGIN:VEVENT
DTSTART;TZID=America/Chicago:20260129T140000
DTEND;TZID=America/Chicago:20260129T150000
DTSTAMP:20260424T120616
CREATED:20260108T232558Z
LAST-MODIFIED:20260129T201421Z
UID:10002855-1769695200-1769698800@highland.edu
SUMMARY:Intervarsity
DESCRIPTION:Every student is invited to our weekly meetings where we read Scripture\, pray for one another and connect/encourage one another in a great community \nhttps://www.intervarsity.org/about-us
URL:https://highland.edu/event/intervarsity-2/
LOCATION:H209
CATEGORIES:Student Events
END:VEVENT
END:VCALENDAR