BEGIN:VCALENDAR
VERSION:2.0
PRODID:-//Highland Community College - ECPv6.15.20//NONSGML v1.0//EN
CALSCALE:GREGORIAN
METHOD:PUBLISH
X-WR-CALNAME:Highland Community College
X-ORIGINAL-URL:https://highland.edu
X-WR-CALDESC:Events for Highland Community College
REFRESH-INTERVAL;VALUE=DURATION:PT1H
X-Robots-Tag:noindex
X-PUBLISHED-TTL:PT1H
BEGIN:VTIMEZONE
TZID:America/Chicago
BEGIN:DAYLIGHT
TZOFFSETFROM:-0600
TZOFFSETTO:-0500
TZNAME:CDT
DTSTART:20230312T080000
END:DAYLIGHT
BEGIN:STANDARD
TZOFFSETFROM:-0500
TZOFFSETTO:-0600
TZNAME:CST
DTSTART:20231105T070000
END:STANDARD
BEGIN:DAYLIGHT
TZOFFSETFROM:-0600
TZOFFSETTO:-0500
TZNAME:CDT
DTSTART:20240310T080000
END:DAYLIGHT
BEGIN:STANDARD
TZOFFSETFROM:-0500
TZOFFSETTO:-0600
TZNAME:CST
DTSTART:20241103T070000
END:STANDARD
BEGIN:DAYLIGHT
TZOFFSETFROM:-0600
TZOFFSETTO:-0500
TZNAME:CDT
DTSTART:20250309T080000
END:DAYLIGHT
BEGIN:STANDARD
TZOFFSETFROM:-0500
TZOFFSETTO:-0600
TZNAME:CST
DTSTART:20251102T070000
END:STANDARD
END:VTIMEZONE
BEGIN:VEVENT
DTSTART;TZID=America/Chicago:20241118T140000
DTEND;TZID=America/Chicago:20241118T150000
DTSTAMP:20260422T162050
CREATED:20241114T215731Z
LAST-MODIFIED:20241114T215731Z
UID:10002163-1731938400-1731942000@highland.edu
SUMMARY:Native American Heritage Month: The Tribes of Northern Illinois and Southern Wisconsin
DESCRIPTION:Discover the rich history of the Native American tribes that inhabited our area during the 1700s and 1800s. This guest lecture will explore the lives\, cultures and legacies of the Ho-Chunk\, Potawatomi and other indigenous nations\, delving into their interactions with settlers\, including the Macktown settlement near the Pecatonica River. Participants will also learn about the ancient Native American mounds found throughout the Midwest. \nThis engaging presentation is sponsored by Highland’s Diversity Committee. Board members from Macktown Living History Center will provide unique insights into these tribes’ lasting regional impact.
URL:https://highland.edu/event/native-american-heritage-month-the-tribes-of-northern-illinois-and-southern-wisconsin/
LOCATION:H201
CATEGORIES:Conference Center,Student Events
END:VEVENT
BEGIN:VEVENT
DTSTART;TZID=America/Chicago:20241118T103000
DTEND;TZID=America/Chicago:20241118T120000
DTSTAMP:20260422T162050
CREATED:20241116T141022Z
LAST-MODIFIED:20241118T164011Z
UID:10002199-1731925800-1731931200@highland.edu
SUMMARY:Advisor Walk Ins
DESCRIPTION:
URL:https://highland.edu/event/advisor-walk-ins-252/
LOCATION:Welcome Center H116
CATEGORIES:Advising
END:VEVENT
BEGIN:VEVENT
DTSTART;TZID=America/Chicago:20241118T080000
DTEND;TZID=America/Chicago:20241118T093000
DTSTAMP:20260422T162050
CREATED:20241116T141022Z
LAST-MODIFIED:20241118T141012Z
UID:10002198-1731916800-1731922200@highland.edu
SUMMARY:Advisor Walk Ins
DESCRIPTION:
URL:https://highland.edu/event/advisor-walk-ins-251/
LOCATION:Welcome Center H116
CATEGORIES:Advising
END:VEVENT
BEGIN:VEVENT
DTSTART;TZID=America/Chicago:20241115T190000
DTEND;TZID=America/Chicago:20241115T220000
DTSTAMP:20260422T162050
CREATED:20240821T185802Z
LAST-MODIFIED:20240821T191451Z
UID:10001691-1731697200-1731708000@highland.edu
SUMMARY:Big Band Fall Concert
DESCRIPTION:Join us at this free concert!
URL:https://highland.edu/event/big-band-fall-concert-3/
LOCATION:Ferguson Fine Arts Center Theatre
CATEGORIES:Fine Arts
END:VEVENT
BEGIN:VEVENT
DTSTART;TZID=America/Chicago:20241115T133000
DTEND;TZID=America/Chicago:20241115T150000
DTSTAMP:20260422T162050
CREATED:20241113T175514Z
LAST-MODIFIED:20241115T181010Z
UID:10002152-1731677400-1731682800@highland.edu
SUMMARY:Advisor Walk Ins
DESCRIPTION:
URL:https://highland.edu/event/advisor-walk-ins-250/
LOCATION:Welcome Center H116
CATEGORIES:Advising
END:VEVENT
BEGIN:VEVENT
DTSTART;TZID=America/Chicago:20241114T113000
DTEND;TZID=America/Chicago:20241114T150000
DTSTAMP:20260422T162050
CREATED:20241113T175514Z
LAST-MODIFIED:20241114T175513Z
UID:10002151-1731583800-1731596400@highland.edu
SUMMARY:Advisor Walk Ins
DESCRIPTION:
URL:https://highland.edu/event/advisor-walk-ins-249/
LOCATION:Welcome Center H116
CATEGORIES:Advising
END:VEVENT
BEGIN:VEVENT
DTSTART;TZID=America/Chicago:20241114T093000
DTEND;TZID=America/Chicago:20241114T110000
DTSTAMP:20260422T162050
CREATED:20241113T175514Z
LAST-MODIFIED:20241113T175514Z
UID:10002150-1731576600-1731582000@highland.edu
SUMMARY:Advisor Walk Ins
DESCRIPTION:
URL:https://highland.edu/event/advisor-walk-ins-248/
LOCATION:Welcome Center H116
CATEGORIES:Advising
END:VEVENT
BEGIN:VEVENT
DTSTART;TZID=America/Chicago:20241113T143000
DTEND;TZID=America/Chicago:20241113T153000
DTSTAMP:20260422T162050
CREATED:20240821T152512Z
LAST-MODIFIED:20241113T212510Z
UID:10001680-1731508200-1731511800@highland.edu
SUMMARY:Intervarsity Meetings (Christian based club)
DESCRIPTION:Every student is invited to our weekly meetings where we read Scripture\, pray for one another  and connect/encourage one another \nhttps://www.intervarsity.org/about-us
URL:https://highland.edu/event/intervarsity-meetings-christian-based-club-9/
LOCATION:H210
CATEGORIES:Student Events
END:VEVENT
BEGIN:VEVENT
DTSTART;TZID=America/Chicago:20241113T123000
DTEND;TZID=America/Chicago:20241113T150000
DTSTAMP:20260422T162050
CREATED:20241113T175513Z
LAST-MODIFIED:20241113T175513Z
UID:10002149-1731501000-1731510000@highland.edu
SUMMARY:Advisor Walk Ins
DESCRIPTION:
URL:https://highland.edu/event/advisor-walk-ins-247/
LOCATION:Welcome Center H116
CATEGORIES:Advising
END:VEVENT
BEGIN:VEVENT
DTSTART;TZID=America/Chicago:20241111T120000
DTEND;TZID=America/Chicago:20241111T123000
DTSTAMP:20260422T162050
CREATED:20240903T154012Z
LAST-MODIFIED:20241022T094015Z
UID:10001743-1731326400-1731328200@highland.edu
SUMMARY:Veterans Day Flag Ceremony
DESCRIPTION:Join us in the middle of campus by the flag poles for a quick flag ceremony by Freeport NJROTC students. In honor of Veterans Day.
URL:https://highland.edu/event/veterans-day-flag-ceremony/
LOCATION:Flag poles
CATEGORIES:Student Events
END:VEVENT
BEGIN:VEVENT
DTSTART;TZID=America/Chicago:20241106T090000
DTEND;TZID=America/Chicago:20241106T150000
DTSTAMP:20260422T162050
CREATED:20240912T000504Z
LAST-MODIFIED:20240912T001154Z
UID:10001799-1730883600-1730905200@highland.edu
SUMMARY:Career Fair
DESCRIPTION:Check out local jobs at the Career Fair! A variety of employers from the stateline area will be present and eager to meet you and discuss your future. \nAll are welcome to attend: Highland students\, high school students\, alumni and community members. This event is presented by Highland Community College\, Freeport High School and the Greater Freeport Partnership. \nNeed help with your resume or interview skills before you attend? Contact HCC Career Services today: \nAnthony Musso\nCoordinator\, Career Services\nanthony.musso@highland.edu\n815-599-3597 \nZacharey Green\nSpecialist\, Career Services\nzacharey.green@highland.edu\n815-599-3508
URL:https://highland.edu/event/career-fair-2/
LOCATION:Sports Complex/YMCA
CATEGORIES:Student Events
END:VEVENT
BEGIN:VEVENT
DTSTART;TZID=America/Chicago:20241105T083000
DTEND;TZID=America/Chicago:20241105T150000
DTSTAMP:20260422T162050
CREATED:20241001T184011Z
LAST-MODIFIED:20241022T094014Z
UID:10002028-1730795400-1730818800@highland.edu
SUMMARY:Hot Cocoa Bar
DESCRIPTION:
URL:https://highland.edu/event/hot-cocoa-bar-21/
LOCATION:M Lobby
CATEGORIES:Student Events
END:VEVENT
BEGIN:VEVENT
DTSTART;TZID=America/Chicago:20241104T083000
DTEND;TZID=America/Chicago:20241104T150000
DTSTAMP:20260422T162050
CREATED:20240903T154011Z
LAST-MODIFIED:20241022T094014Z
UID:10001741-1730709000-1730732400@highland.edu
SUMMARY:Hot Cocoa Bar
DESCRIPTION:Students can enjoy a free cup of hot cocoa with all the toppings your heart desires.
URL:https://highland.edu/event/hot-cocoa-bar/
LOCATION:M Lobby
CATEGORIES:Student Events
END:VEVENT
BEGIN:VEVENT
DTSTART;TZID=America/Chicago:20241101T190000
DTEND;TZID=America/Chicago:20241101T220000
DTSTAMP:20260422T162050
CREATED:20240821T185633Z
LAST-MODIFIED:20240821T185633Z
UID:10001690-1730487600-1730498400@highland.edu
SUMMARY:Fall Instrumental Music Concert
DESCRIPTION:
URL:https://highland.edu/event/fall-instrumental-music-concert-3/
LOCATION:Ferguson Fine Arts Center Theatre
CATEGORIES:Fine Arts
END:VEVENT
BEGIN:VEVENT
DTSTART;TZID=America/Chicago:20241030T143000
DTEND;TZID=America/Chicago:20241030T153000
DTSTAMP:20260422T162050
CREATED:20240821T152511Z
LAST-MODIFIED:20241022T094014Z
UID:10001673-1730298600-1730302200@highland.edu
SUMMARY:Intervarsity meetings (Christian based club)
DESCRIPTION:Every student is invited to our weekly meetings where we read Scripture\, pray for one another  and connect/encourage one another \nhttps://www.intervarsity.org/about-us
URL:https://highland.edu/event/intervarsity-meetings-christian-based-club-4/
LOCATION:H127
CATEGORIES:Student Events
END:VEVENT
BEGIN:VEVENT
DTSTART;TZID=America/Chicago:20241025T090000
DTEND;TZID=America/Chicago:20241025T110000
DTSTAMP:20260422T162050
CREATED:20241017T161006Z
LAST-MODIFIED:20241022T094014Z
UID:10002092-1729846800-1729854000@highland.edu
SUMMARY:HCC College Fair
DESCRIPTION:Open to all students \nA large number of college reps will have tables (including HCC faculty/staff) to connect with CURRENT HCC students and HCC district wide high school students
URL:https://highland.edu/event/hcc-college-fair/
LOCATION:Sports Center gym
CATEGORIES:Student Events
END:VEVENT
BEGIN:VEVENT
DTSTART;VALUE=DATE:20241021
DTEND;VALUE=DATE:20241022
DTSTAMP:20260422T162050
CREATED:20240718T194651Z
LAST-MODIFIED:20240718T194651Z
UID:10001597-1729468800-1729555199@highland.edu
SUMMARY:Spring 2025 registration opens
DESCRIPTION:
URL:https://highland.edu/event/spring-2025-registration-opens/
CATEGORIES:Academic Calendar
END:VEVENT
BEGIN:VEVENT
DTSTART;VALUE=DATE:20241021
DTEND;VALUE=DATE:20241022
DTSTAMP:20260422T162050
CREATED:20240718T194610Z
LAST-MODIFIED:20240718T194610Z
UID:10001596-1729468800-1729555199@highland.edu
SUMMARY:Last day to drop for second 8-week classes\, no record/refund
DESCRIPTION:
URL:https://highland.edu/event/last-day-to-drop-for-second-8-week-classes-no-record-refund-2/
CATEGORIES:Academic Calendar
END:VEVENT
BEGIN:VEVENT
DTSTART;TZID=America/Chicago:20241020T150000
DTEND;TZID=America/Chicago:20241020T180000
DTSTAMP:20260422T162050
CREATED:20240821T185347Z
LAST-MODIFIED:20240821T190320Z
UID:10001689-1729436400-1729447200@highland.edu
SUMMARY:From Stage & Screen concert
DESCRIPTION:
URL:https://highland.edu/event/from-stage-screen-concert/
LOCATION:Ferguson Fine Arts Center Theatre
CATEGORIES:Fine Arts
END:VEVENT
BEGIN:VEVENT
DTSTART;VALUE=DATE:20241015
DTEND;VALUE=DATE:20241016
DTSTAMP:20260422T162050
CREATED:20240718T194502Z
LAST-MODIFIED:20240718T194502Z
UID:10001595-1728950400-1729036799@highland.edu
SUMMARY:Second 8-week classes begin
DESCRIPTION:
URL:https://highland.edu/event/second-8-week-classes-begin-3/
CATEGORIES:Academic Calendar
END:VEVENT
BEGIN:VEVENT
DTSTART;VALUE=DATE:20241014
DTEND;VALUE=DATE:20241015
DTSTAMP:20260422T162050
CREATED:20240718T194430Z
LAST-MODIFIED:20240718T194430Z
UID:10001594-1728864000-1728950399@highland.edu
SUMMARY:Columbus Day
DESCRIPTION:Highland Community College is closed in observance of Columbus Day.
URL:https://highland.edu/event/columbus-day-3/
CATEGORIES:Academic Calendar
END:VEVENT
BEGIN:VEVENT
DTSTART;TZID=America/Chicago:20241009T110000
DTEND;TZID=America/Chicago:20241009T130000
DTSTAMP:20260422T162050
CREATED:20240903T154010Z
LAST-MODIFIED:20241009T172508Z
UID:10001740-1728471600-1728478800@highland.edu
SUMMARY:Midway through Midterms
DESCRIPTION:Take a moment to relax and recharge during midterms!
URL:https://highland.edu/event/midway-through-midterms-3/
LOCATION:Welcome Center (H)
CATEGORIES:Student Events
END:VEVENT
BEGIN:VEVENT
DTSTART;TZID=America/Chicago:20241006T150000
DTEND;TZID=America/Chicago:20241006T180000
DTSTAMP:20260422T162050
CREATED:20240821T185237Z
LAST-MODIFIED:20240821T185504Z
UID:10001688-1728226800-1728237600@highland.edu
SUMMARY:'Eurydice' fall theatre production
DESCRIPTION:Eurydice reimagines the classic myth of Orpheus and Eurydice not through Orpheus’s infamous pilgrimage to retrieve his bride\, but through the eyes of its heroine. Dying too young on her wedding day\, Eurydice must journey to the underworld\, where she reunites with her father and struggles to remember her lost love.
URL:https://highland.edu/event/eurydice/2024-10-06/
LOCATION:Ferguson Fine Arts Center Theatre
CATEGORIES:Fine Arts
END:VEVENT
BEGIN:VEVENT
DTSTART;TZID=America/Chicago:20241005T190000
DTEND;TZID=America/Chicago:20241005T220000
DTSTAMP:20260422T162050
CREATED:20240821T185237Z
LAST-MODIFIED:20240821T185504Z
UID:10001687-1728154800-1728165600@highland.edu
SUMMARY:'Eurydice' fall theatre production
DESCRIPTION:Eurydice reimagines the classic myth of Orpheus and Eurydice not through Orpheus’s infamous pilgrimage to retrieve his bride\, but through the eyes of its heroine. Dying too young on her wedding day\, Eurydice must journey to the underworld\, where she reunites with her father and struggles to remember her lost love.
URL:https://highland.edu/event/eurydice/2024-10-05/
LOCATION:Ferguson Fine Arts Center Theatre
CATEGORIES:Fine Arts
END:VEVENT
BEGIN:VEVENT
DTSTART;TZID=America/Chicago:20241004T190000
DTEND;TZID=America/Chicago:20241004T220000
DTSTAMP:20260422T162050
CREATED:20240821T185237Z
LAST-MODIFIED:20240821T185504Z
UID:10001686-1728068400-1728079200@highland.edu
SUMMARY:'Eurydice' fall theatre production
DESCRIPTION:Eurydice reimagines the classic myth of Orpheus and Eurydice not through Orpheus’s infamous pilgrimage to retrieve his bride\, but through the eyes of its heroine. Dying too young on her wedding day\, Eurydice must journey to the underworld\, where she reunites with her father and struggles to remember her lost love.
URL:https://highland.edu/event/eurydice/2024-10-04/
LOCATION:Ferguson Fine Arts Center Theatre
CATEGORIES:Fine Arts
END:VEVENT
BEGIN:VEVENT
DTSTART;TZID=America/Chicago:20241004T100000
DTEND;TZID=America/Chicago:20241004T123000
DTSTAMP:20260422T162050
CREATED:20241001T055518Z
LAST-MODIFIED:20241004T074007Z
UID:10002027-1728036000-1728045000@highland.edu
SUMMARY:Advisor Walk Ins
DESCRIPTION:
URL:https://highland.edu/event/advisor-walk-ins-246/
LOCATION:Welcome Center H116
CATEGORIES:Advising
END:VEVENT
BEGIN:VEVENT
DTSTART;VALUE=DATE:20241004
DTEND;VALUE=DATE:20241005
DTSTAMP:20260422T162050
CREATED:20240718T194317Z
LAST-MODIFIED:20240718T194317Z
UID:10001593-1728000000-1728086399@highland.edu
SUMMARY:Last day to withdraw "W" for the first 8-weeks
DESCRIPTION:
URL:https://highland.edu/event/last-day-to-withdraw-w-for-the-first-8-weeks/
CATEGORIES:Academic Calendar
END:VEVENT
BEGIN:VEVENT
DTSTART;TZID=America/Chicago:20241003T123000
DTEND;TZID=America/Chicago:20241003T140000
DTSTAMP:20260422T162050
CREATED:20241001T055517Z
LAST-MODIFIED:20241003T055508Z
UID:10002026-1727958600-1727964000@highland.edu
SUMMARY:Advisor Walk Ins
DESCRIPTION:
URL:https://highland.edu/event/advisor-walk-ins-245/
LOCATION:Welcome Center H116
CATEGORIES:Advising
END:VEVENT
BEGIN:VEVENT
DTSTART;TZID=America/Chicago:20241003T100000
DTEND;TZID=America/Chicago:20241003T113000
DTSTAMP:20260422T162050
CREATED:20240928T052510Z
LAST-MODIFIED:20241003T055508Z
UID:10002025-1727949600-1727955000@highland.edu
SUMMARY:Advisor Walk Ins
DESCRIPTION:
URL:https://highland.edu/event/advisor-walk-ins-242/
LOCATION:Welcome Center H116
CATEGORIES:Advising
END:VEVENT
BEGIN:VEVENT
DTSTART;TZID=America/Chicago:20241003T080000
DTEND;TZID=America/Chicago:20241003T090000
DTSTAMP:20260422T162050
CREATED:20240925T052507Z
LAST-MODIFIED:20241003T055508Z
UID:10002018-1727942400-1727946000@highland.edu
SUMMARY:Office Closed for Meeting
DESCRIPTION:
URL:https://highland.edu/event/office-closed-for-meeting-34/
CATEGORIES:Advising
END:VEVENT
END:VCALENDAR