BEGIN:VCALENDAR
VERSION:2.0
PRODID:-//Highland Community College - ECPv6.15.20//NONSGML v1.0//EN
CALSCALE:GREGORIAN
METHOD:PUBLISH
X-ORIGINAL-URL:https://highland.edu
X-WR-CALDESC:Events for Highland Community College
REFRESH-INTERVAL;VALUE=DURATION:PT1H
X-Robots-Tag:noindex
X-PUBLISHED-TTL:PT1H
BEGIN:VTIMEZONE
TZID:America/Chicago
BEGIN:DAYLIGHT
TZOFFSETFROM:-0600
TZOFFSETTO:-0500
TZNAME:CDT
DTSTART:20220313T080000
END:DAYLIGHT
BEGIN:STANDARD
TZOFFSETFROM:-0500
TZOFFSETTO:-0600
TZNAME:CST
DTSTART:20221106T070000
END:STANDARD
BEGIN:DAYLIGHT
TZOFFSETFROM:-0600
TZOFFSETTO:-0500
TZNAME:CDT
DTSTART:20230312T080000
END:DAYLIGHT
BEGIN:STANDARD
TZOFFSETFROM:-0500
TZOFFSETTO:-0600
TZNAME:CST
DTSTART:20231105T070000
END:STANDARD
BEGIN:DAYLIGHT
TZOFFSETFROM:-0600
TZOFFSETTO:-0500
TZNAME:CDT
DTSTART:20240310T080000
END:DAYLIGHT
BEGIN:STANDARD
TZOFFSETFROM:-0500
TZOFFSETTO:-0600
TZNAME:CST
DTSTART:20241103T070000
END:STANDARD
BEGIN:DAYLIGHT
TZOFFSETFROM:-0600
TZOFFSETTO:-0500
TZNAME:CDT
DTSTART:20250309T080000
END:DAYLIGHT
BEGIN:STANDARD
TZOFFSETFROM:-0500
TZOFFSETTO:-0600
TZNAME:CST
DTSTART:20251102T070000
END:STANDARD
END:VTIMEZONE
BEGIN:VEVENT
DTSTART;VALUE=DATE:20231211
DTEND;VALUE=DATE:20231216
DTSTAMP:20260422T090320
CREATED:20230928T200746Z
LAST-MODIFIED:20230928T200746Z
UID:10000312-1702252800-1702684799@highland.edu
SUMMARY:Final exams
DESCRIPTION:
URL:https://highland.edu/event/final-exams/
CATEGORIES:Academic Calendar
END:VEVENT
BEGIN:VEVENT
DTSTART;TZID=America/Chicago:20231211T100000
DTEND;TZID=America/Chicago:20231211T113000
DTSTAMP:20260422T090320
CREATED:20231209T131005Z
LAST-MODIFIED:20231209T131005Z
UID:10000445-1702288800-1702294200@highland.edu
SUMMARY:Advisor Walk Ins
DESCRIPTION:
URL:https://highland.edu/event/advisor-walk-ins-67/
LOCATION:Student Services H-116A
CATEGORIES:Advising
END:VEVENT
BEGIN:VEVENT
DTSTART;TZID=America/Chicago:20231211T130000
DTEND;TZID=America/Chicago:20231211T150000
DTSTAMP:20260422T090320
CREATED:20231209T131006Z
LAST-MODIFIED:20231209T131006Z
UID:10000446-1702299600-1702306800@highland.edu
SUMMARY:Advisor Walk Ins
DESCRIPTION:
URL:https://highland.edu/event/advisor-walk-ins-68/
LOCATION:Student Services H-116A
CATEGORIES:Advising
END:VEVENT
BEGIN:VEVENT
DTSTART;TZID=America/Chicago:20231211T141500
DTEND;TZID=America/Chicago:20231211T151500
DTSTAMP:20260422T090320
CREATED:20231006T154006Z
LAST-MODIFIED:20231006T154006Z
UID:10000326-1702304100-1702307700@highland.edu
SUMMARY:Intervarsity (faith based student club)
DESCRIPTION:11/16 – H208\n12/4 – H201
URL:https://highland.edu/event/intervarsity-faith-based-student-club-9/
LOCATION:H210
CATEGORIES:Student Events
END:VEVENT
BEGIN:VEVENT
DTSTART;TZID=America/Chicago:20231211T153000
DTEND;TZID=America/Chicago:20231211T163000
DTSTAMP:20260422T090320
CREATED:20230911T195527Z
LAST-MODIFIED:20230911T195527Z
UID:10000250-1702308600-1702312200@highland.edu
SUMMARY:Office Closed for Meeting
DESCRIPTION:
URL:https://highland.edu/event/office-closed-for-meeting-12/
CATEGORIES:Advising
END:VEVENT
BEGIN:VEVENT
DTSTART;TZID=America/Chicago:20231212T100000
DTEND;TZID=America/Chicago:20231212T130000
DTSTAMP:20260422T090320
CREATED:20231101T174015Z
LAST-MODIFIED:20231101T174015Z
UID:10000360-1702375200-1702386000@highland.edu
SUMMARY:Jingle & Craft
DESCRIPTION:De-stress from finals with holiday themed crafts\, games\, and snacks.
URL:https://highland.edu/event/jingle-craft/
LOCATION:M Lobby
CATEGORIES:Student Events
END:VEVENT
BEGIN:VEVENT
DTSTART;TZID=America/Chicago:20231212T130000
DTEND;TZID=America/Chicago:20231212T150000
DTSTAMP:20260422T090320
CREATED:20231209T131006Z
LAST-MODIFIED:20231209T131006Z
UID:10000447-1702386000-1702393200@highland.edu
SUMMARY:Advisor Walk Ins
DESCRIPTION:
URL:https://highland.edu/event/advisor-walk-ins-69/
LOCATION:Student Services H-116A
CATEGORIES:Advising
END:VEVENT
BEGIN:VEVENT
DTSTART;TZID=America/Chicago:20231213T080000
DTEND;TZID=America/Chicago:20231213T140000
DTSTAMP:20260422T090320
CREATED:20230816T192137Z
LAST-MODIFIED:20230816T192138Z
UID:10000054-1702454400-1702476000@highland.edu
SUMMARY:Board of Trustees Quarterly Board Retreat
DESCRIPTION:
URL:https://highland.edu/event/board-of-trustees-quarterly-board-retreat-2/
LOCATION:Robert J. Rimington Board Room (H-228)
CATEGORIES:President's Office, Board of Trustees
ORGANIZER;CN="President's Office%2C Board of Trustees":MAILTO:PublicCalendar-PresOfc-Board@highland.edu
END:VEVENT
BEGIN:VEVENT
DTSTART;TZID=America/Chicago:20231213T110000
DTEND;TZID=America/Chicago:20231213T130000
DTSTAMP:20260422T090320
CREATED:20231209T131006Z
LAST-MODIFIED:20231209T131006Z
UID:10000448-1702465200-1702472400@highland.edu
SUMMARY:Advisor Walk Ins
DESCRIPTION:
URL:https://highland.edu/event/advisor-walk-ins-70/
LOCATION:Student Services H-116A
CATEGORIES:Advising
END:VEVENT
BEGIN:VEVENT
DTSTART;TZID=America/Chicago:20231213T133000
DTEND;TZID=America/Chicago:20231213T150000
DTSTAMP:20260422T090320
CREATED:20231209T131006Z
LAST-MODIFIED:20231209T131006Z
UID:10000449-1702474200-1702479600@highland.edu
SUMMARY:Advisor Walk Ins
DESCRIPTION:
URL:https://highland.edu/event/advisor-walk-ins-71/
LOCATION:Student Services H-116A
CATEGORIES:Advising
END:VEVENT
BEGIN:VEVENT
DTSTART;TZID=America/Chicago:20231214T100000
DTEND;TZID=America/Chicago:20231214T113000
DTSTAMP:20260422T090320
CREATED:20231212T131018Z
LAST-MODIFIED:20231212T131018Z
UID:10000451-1702548000-1702553400@highland.edu
SUMMARY:Advisor Walk Ins
DESCRIPTION:
URL:https://highland.edu/event/advisor-walk-ins-73/
LOCATION:Student Services H-116A
CATEGORIES:Advising
END:VEVENT
BEGIN:VEVENT
DTSTART;TZID=America/Chicago:20231214T100000
DTEND;TZID=America/Chicago:20231214T113000
DTSTAMP:20260422T090320
CREATED:20231212T131018Z
LAST-MODIFIED:20231212T131018Z
UID:10000452-1702548000-1702553400@highland.edu
SUMMARY:Advisor Walk Ins
DESCRIPTION:
URL:https://highland.edu/event/advisor-walk-ins-74/
LOCATION:Student Services H-116A
CATEGORIES:Advising
END:VEVENT
BEGIN:VEVENT
DTSTART;TZID=America/Chicago:20231214T100000
DTEND;TZID=America/Chicago:20231214T120000
DTSTAMP:20260422T090320
CREATED:20231110T201233Z
LAST-MODIFIED:20231110T201634Z
UID:10000380-1702548000-1702555200@highland.edu
SUMMARY:Grocery Bingo
DESCRIPTION:Play a round of Bingo and win 1 of 10 Aldi gift cards\, just in time to do your holiday shopping! HIGHLAND STUDENTS ONLY.
URL:https://highland.edu/event/grocery-bingo-4/
LOCATION:Building M lobby
CATEGORIES:Student Events
END:VEVENT
BEGIN:VEVENT
DTSTART;TZID=America/Chicago:20231214T110000
DTEND;TZID=America/Chicago:20231214T150000
DTSTAMP:20260422T090320
CREATED:20230919T072505Z
LAST-MODIFIED:20230919T072505Z
UID:10000266-1702551600-1702566000@highland.edu
SUMMARY:Board of Trustees Quarterly Board Retreat
DESCRIPTION:
URL:https://highland.edu/event/board-of-trustees-quarterly-board-retreat-6/
LOCATION:Student/Conference Center\, Bldg. H\, Robert J. Rimington Board Room (Rm 228)
CATEGORIES:President's Office, Board of Trustees
END:VEVENT
BEGIN:VEVENT
DTSTART;TZID=America/Chicago:20231214T130000
DTEND;TZID=America/Chicago:20231214T150000
DTSTAMP:20260422T090320
CREATED:20231209T131006Z
LAST-MODIFIED:20231209T131006Z
UID:10000450-1702558800-1702566000@highland.edu
SUMMARY:Advisor Walk Ins
DESCRIPTION:
URL:https://highland.edu/event/advisor-walk-ins-72/
LOCATION:Student Services H-116A
CATEGORIES:Advising
END:VEVENT
BEGIN:VEVENT
DTSTART;VALUE=DATE:20231215
DTEND;VALUE=DATE:20231216
DTSTAMP:20260422T090320
CREATED:20231101T142847Z
LAST-MODIFIED:20231101T142847Z
UID:10000346-1702598400-1702684799@highland.edu
SUMMARY:End of Fall term
DESCRIPTION:
URL:https://highland.edu/event/end-of-fall-term/
CATEGORIES:Academic Calendar
END:VEVENT
BEGIN:VEVENT
DTSTART;TZID=America/Chicago:20231215T103000
DTEND;TZID=America/Chicago:20231215T120000
DTSTAMP:20260422T090320
CREATED:20231215T131020Z
LAST-MODIFIED:20231215T131020Z
UID:10000486-1702636200-1702641600@highland.edu
SUMMARY:Advisor Walk Ins
DESCRIPTION:
URL:https://highland.edu/event/advisor-walk-ins-83/
LOCATION:Student Services H-116A
CATEGORIES:Advising
END:VEVENT
BEGIN:VEVENT
DTSTART;TZID=America/Chicago:20231218T083000
DTEND;TZID=America/Chicago:20231218T130000
DTSTAMP:20260422T090320
CREATED:20231213T131016Z
LAST-MODIFIED:20231213T131016Z
UID:10000479-1702888200-1702904400@highland.edu
SUMMARY:Advisor Walk Ins
DESCRIPTION:
URL:https://highland.edu/event/advisor-walk-ins-75/
LOCATION:Student Services H-116A
CATEGORIES:Advising
END:VEVENT
BEGIN:VEVENT
DTSTART;TZID=America/Chicago:20231218T140000
DTEND;TZID=America/Chicago:20231218T163000
DTSTAMP:20260422T090320
CREATED:20231213T131016Z
LAST-MODIFIED:20231213T131016Z
UID:10000480-1702908000-1702917000@highland.edu
SUMMARY:Advisor Walk Ins
DESCRIPTION:
URL:https://highland.edu/event/advisor-walk-ins-76/
LOCATION:Student Services H-116A
CATEGORIES:Advising
END:VEVENT
BEGIN:VEVENT
DTSTART;TZID=America/Chicago:20231219T083000
DTEND;TZID=America/Chicago:20231219T120000
DTSTAMP:20260422T090320
CREATED:20231213T131016Z
LAST-MODIFIED:20231213T131016Z
UID:10000481-1702974600-1702987200@highland.edu
SUMMARY:Advisor Walk Ins
DESCRIPTION:
URL:https://highland.edu/event/advisor-walk-ins-77/
LOCATION:Student Services H-116A
CATEGORIES:Advising
END:VEVENT
BEGIN:VEVENT
DTSTART;TZID=America/Chicago:20231219T100000
DTEND;TZID=America/Chicago:20231219T140000
DTSTAMP:20260422T090320
CREATED:20230816T183701Z
LAST-MODIFIED:20230816T183706Z
UID:10000043-1702980000-1702994400@highland.edu
SUMMARY:Finger Printing
DESCRIPTION:For more information contact Accurate Biometrics at www.accuratebiometrics.com
URL:https://highland.edu/event/finger-printing-9/
CATEGORIES:Conference Center
ORGANIZER;CN="Conference Center":MAILTO:PublicCalendar-ConfCenter@highland.edu
END:VEVENT
BEGIN:VEVENT
DTSTART;TZID=America/Chicago:20231219T130000
DTEND;TZID=America/Chicago:20231219T160000
DTSTAMP:20260422T090320
CREATED:20231213T131016Z
LAST-MODIFIED:20231213T131016Z
UID:10000482-1702990800-1703001600@highland.edu
SUMMARY:Advisor Walk Ins
DESCRIPTION:
URL:https://highland.edu/event/advisor-walk-ins-78/
LOCATION:Student Services H-116A
CATEGORIES:Advising
END:VEVENT
BEGIN:VEVENT
DTSTART;TZID=America/Chicago:20231220T093000
DTEND;TZID=America/Chicago:20231220T130000
DTSTAMP:20260422T090320
CREATED:20231213T131016Z
LAST-MODIFIED:20231213T131016Z
UID:10000483-1703064600-1703077200@highland.edu
SUMMARY:Advisor Walk Ins
DESCRIPTION:
URL:https://highland.edu/event/advisor-walk-ins-79/
LOCATION:Student Services H-116A
CATEGORIES:Advising
END:VEVENT
BEGIN:VEVENT
DTSTART;TZID=America/Chicago:20231220T133000
DTEND;TZID=America/Chicago:20231220T163000
DTSTAMP:20260422T090320
CREATED:20231218T172505Z
LAST-MODIFIED:20231218T172505Z
UID:10000491-1703079000-1703089800@highland.edu
SUMMARY:Advising Walk Ins
DESCRIPTION:
URL:https://highland.edu/event/advising-walk-ins-15/
LOCATION:Student Services H-116A
CATEGORIES:Advising
END:VEVENT
BEGIN:VEVENT
DTSTART;TZID=America/Chicago:20231221T083000
DTEND;TZID=America/Chicago:20231221T130000
DTSTAMP:20260422T090320
CREATED:20231213T131016Z
LAST-MODIFIED:20231213T131016Z
UID:10000484-1703147400-1703163600@highland.edu
SUMMARY:Advisor Walk Ins
DESCRIPTION:
URL:https://highland.edu/event/advisor-walk-ins-80/
LOCATION:Student Services H-116A
CATEGORIES:Advising
END:VEVENT
BEGIN:VEVENT
DTSTART;TZID=America/Chicago:20231221T083000
DTEND;TZID=America/Chicago:20231221T130000
DTSTAMP:20260422T090320
CREATED:20231213T131016Z
LAST-MODIFIED:20231213T131016Z
UID:10000478-1703147400-1703163600@highland.edu
SUMMARY:Advisor Walk Ins
DESCRIPTION:
URL:https://highland.edu/event/advisor-walk-ins-81/
LOCATION:Student Services H-116A
CATEGORIES:Advising
END:VEVENT
BEGIN:VEVENT
DTSTART;TZID=America/Chicago:20231221T143000
DTEND;TZID=America/Chicago:20231221T163000
DTSTAMP:20260422T090320
CREATED:20231213T131016Z
LAST-MODIFIED:20231213T131016Z
UID:10000485-1703169000-1703176200@highland.edu
SUMMARY:Advisor Walk Ins
DESCRIPTION:
URL:https://highland.edu/event/advisor-walk-ins-82/
LOCATION:Student Services H-116A
CATEGORIES:Advising
END:VEVENT
BEGIN:VEVENT
DTSTART;VALUE=DATE:20231222
DTEND;VALUE=DATE:20240102
DTSTAMP:20260422T090320
CREATED:20231101T142422Z
LAST-MODIFIED:20231101T142422Z
UID:10000345-1703203200-1704153599@highland.edu
SUMMARY:Campus Closed
DESCRIPTION:
URL:https://highland.edu/event/campus-closed/
CATEGORIES:Academic Calendar
END:VEVENT
BEGIN:VEVENT
DTSTART;TZID=America/Chicago:20240102T100000
DTEND;TZID=America/Chicago:20240102T140000
DTSTAMP:20260422T090320
CREATED:20230816T183702Z
LAST-MODIFIED:20230816T183706Z
UID:10000044-1704189600-1704204000@highland.edu
SUMMARY:Finger Printing
DESCRIPTION:For more information contact Accurate Biometrics at www.accuratebiometrics.com
URL:https://highland.edu/event/finger-printing-10/
CATEGORIES:Conference Center
ORGANIZER;CN="Conference Center":MAILTO:PublicCalendar-ConfCenter@highland.edu
END:VEVENT
BEGIN:VEVENT
DTSTART;TZID=America/Chicago:20240103T080000
DTEND;TZID=America/Chicago:20240103T153000
DTSTAMP:20260422T090320
CREATED:20231220T174004Z
LAST-MODIFIED:20231220T174004Z
UID:10000493-1704268800-1704295800@highland.edu
SUMMARY:Advisor Walk Ins
DESCRIPTION:
URL:https://highland.edu/event/advisor-walk-ins-84/
LOCATION:Student Services H-116A
CATEGORIES:Advising
END:VEVENT
END:VCALENDAR