BEGIN:VCALENDAR
VERSION:2.0
PRODID:-//Highland Community College - ECPv6.15.20//NONSGML v1.0//EN
CALSCALE:GREGORIAN
METHOD:PUBLISH
X-ORIGINAL-URL:https://highland.edu
X-WR-CALDESC:Events for Highland Community College
REFRESH-INTERVAL;VALUE=DURATION:PT1H
X-Robots-Tag:noindex
X-PUBLISHED-TTL:PT1H
BEGIN:VTIMEZONE
TZID:America/Chicago
BEGIN:DAYLIGHT
TZOFFSETFROM:-0600
TZOFFSETTO:-0500
TZNAME:CDT
DTSTART:20220313T080000
END:DAYLIGHT
BEGIN:STANDARD
TZOFFSETFROM:-0500
TZOFFSETTO:-0600
TZNAME:CST
DTSTART:20221106T070000
END:STANDARD
BEGIN:DAYLIGHT
TZOFFSETFROM:-0600
TZOFFSETTO:-0500
TZNAME:CDT
DTSTART:20230312T080000
END:DAYLIGHT
BEGIN:STANDARD
TZOFFSETFROM:-0500
TZOFFSETTO:-0600
TZNAME:CST
DTSTART:20231105T070000
END:STANDARD
BEGIN:DAYLIGHT
TZOFFSETFROM:-0600
TZOFFSETTO:-0500
TZNAME:CDT
DTSTART:20240310T080000
END:DAYLIGHT
BEGIN:STANDARD
TZOFFSETFROM:-0500
TZOFFSETTO:-0600
TZNAME:CST
DTSTART:20241103T070000
END:STANDARD
END:VTIMEZONE
BEGIN:VEVENT
DTSTART;TZID=America/Chicago:20231206T113000
DTEND;TZID=America/Chicago:20231206T123000
DTSTAMP:20260421T094106
CREATED:20231201T224305Z
LAST-MODIFIED:20231201T224305Z
UID:10000441-1701862200-1701865800@highland.edu
SUMMARY:Lunch With Leadership
DESCRIPTION:Join Student Senate for lunch with the Highland leadership team! Enjoy a free sandwich\, chips and dessert while you chat and ask questions.
URL:https://highland.edu/event/lunch-with-leadership/
LOCATION:Cougar Cafe
CATEGORIES:Student Events
END:VEVENT
BEGIN:VEVENT
DTSTART;TZID=America/Chicago:20231129T100000
DTEND;TZID=America/Chicago:20231129T130000
DTSTAMP:20260421T094106
CREATED:20231014T104017Z
LAST-MODIFIED:20231014T104017Z
UID:10000328-1701252000-1701262800@highland.edu
SUMMARY:St. Anthony's College of Nursing Visit
DESCRIPTION:
URL:https://highland.edu/event/st-anthonys-college-of-nursing-visit-5/
LOCATION:Cougar Cafe
CATEGORIES:Advising
END:VEVENT
BEGIN:VEVENT
DTSTART;TZID=America/Chicago:20231128T100000
DTEND;TZID=America/Chicago:20231128T130000
DTSTAMP:20260421T094106
CREATED:20230829T104026Z
LAST-MODIFIED:20230829T104026Z
UID:10000214-1701165600-1701176400@highland.edu
SUMMARY:St. Anthony's College of Nursing Visit
DESCRIPTION:
URL:https://highland.edu/event/st-anthonys-college-of-nursing-visit-4/
LOCATION:Cougar Cafe
CATEGORIES:Advising
END:VEVENT
BEGIN:VEVENT
DTSTART;TZID=America/Chicago:20231117T190000
DTEND;TZID=America/Chicago:20231117T210000
DTSTAMP:20260421T094106
CREATED:20231025T143636Z
LAST-MODIFIED:20231025T201702Z
UID:10000335-1700247600-1700254800@highland.edu
SUMMARY:Roary's Rager
DESCRIPTION:Join Student Senate for night of food\, music\, dancing and fun!
URL:https://highland.edu/event/roarys-rager/
LOCATION:Cougar Cafe
CATEGORIES:Student Events
END:VEVENT
BEGIN:VEVENT
DTSTART;TZID=America/Chicago:20231116T110000
DTEND;TZID=America/Chicago:20231116T130000
DTSTAMP:20260421T094106
CREATED:20230916T015505Z
LAST-MODIFIED:20230916T015505Z
UID:10000262-1700132400-1700139600@highland.edu
SUMMARY:Rockford University Visit
DESCRIPTION:
URL:https://highland.edu/event/rockford-university-visit-2/
LOCATION:Cougar Cafe
CATEGORIES:Advising
END:VEVENT
BEGIN:VEVENT
DTSTART;TZID=America/Chicago:20231115T100000
DTEND;TZID=America/Chicago:20231115T130000
DTSTAMP:20260421T094106
CREATED:20230829T104026Z
LAST-MODIFIED:20230829T104026Z
UID:10000213-1700042400-1700053200@highland.edu
SUMMARY:UW-Platteville Visit
DESCRIPTION:
URL:https://highland.edu/event/uw-platteville-visit-2/
LOCATION:Cougar Cafe
CATEGORIES:Advising
END:VEVENT
BEGIN:VEVENT
DTSTART;TZID=America/Chicago:20231107T110000
DTEND;TZID=America/Chicago:20231107T130000
DTSTAMP:20260421T094106
CREATED:20230916T015505Z
LAST-MODIFIED:20230916T015505Z
UID:10000261-1699354800-1699362000@highland.edu
SUMMARY:Rockford University Visit
DESCRIPTION:
URL:https://highland.edu/event/rockford-university-visit/
LOCATION:Cougar Cafe
CATEGORIES:Advising
END:VEVENT
BEGIN:VEVENT
DTSTART;TZID=America/Chicago:20231031T140000
DTEND;TZID=America/Chicago:20231031T150000
DTSTAMP:20260421T094106
CREATED:20231024T221502Z
LAST-MODIFIED:20231031T160943Z
UID:10000334-1698760800-1698764400@highland.edu
SUMMARY:Halloween Costume Contest
DESCRIPTION:Compete for best costume! The top three costumes will win gift cards\, and all participants are welcome to enjoy trick-or-treat candy. Must be present to win. \nHosted by Student Senate.
URL:https://highland.edu/event/halloween-costume-contest/
LOCATION:Cougar Cafe
CATEGORIES:Student Events
END:VEVENT
BEGIN:VEVENT
DTSTART;TZID=America/Chicago:20231031T100000
DTEND;TZID=America/Chicago:20231031T130000
DTSTAMP:20260421T094106
CREATED:20230825T102512Z
LAST-MODIFIED:20230825T102512Z
UID:10000185-1698746400-1698757200@highland.edu
SUMMARY:Western Illinois University Visit
DESCRIPTION:
URL:https://highland.edu/event/western-illinois-university-visit/
LOCATION:Cougar Cafe
CATEGORIES:Advising
END:VEVENT
BEGIN:VEVENT
DTSTART;TZID=America/Chicago:20231026T100000
DTEND;TZID=America/Chicago:20231026T130000
DTSTAMP:20260421T094106
CREATED:20230825T102512Z
LAST-MODIFIED:20230825T102512Z
UID:10000184-1698314400-1698325200@highland.edu
SUMMARY:St. Anthony's College of Nursing Visit
DESCRIPTION:
URL:https://highland.edu/event/st-anthonys-college-of-nursing-visit-2/
LOCATION:Cougar Cafe
CATEGORIES:Advising
END:VEVENT
BEGIN:VEVENT
DTSTART;TZID=America/Chicago:20231011T103000
DTEND;TZID=America/Chicago:20231011T130000
DTSTAMP:20260421T094106
CREATED:20231002T214248Z
LAST-MODIFIED:20231005T130343Z
UID:10000315-1697020200-1697029200@highland.edu
SUMMARY:Midway Through Midterms
DESCRIPTION:Celebrate your midterm work and unwind! We’ll have free snacks\, games\, music\, manicures\, and fidgets! \nRoary drop-in: 11 a.m. – noon \nYoga: 12:15 – 12:45 p.m.
URL:https://highland.edu/event/midway-through-midterms/
LOCATION:Cougar Cafe
CATEGORIES:Student Events
END:VEVENT
BEGIN:VEVENT
DTSTART;TZID=America/Chicago:20231004T100000
DTEND;TZID=America/Chicago:20231004T130000
DTSTAMP:20260421T094106
CREATED:20230829T104026Z
LAST-MODIFIED:20230829T104026Z
UID:10000212-1696413600-1696424400@highland.edu
SUMMARY:UW-Platteville Visit
DESCRIPTION:
URL:https://highland.edu/event/uw-platteville-visit/
LOCATION:Cougar Cafe
CATEGORIES:Advising
END:VEVENT
BEGIN:VEVENT
DTSTART;TZID=America/Chicago:20230926T100000
DTEND;TZID=America/Chicago:20230926T130000
DTSTAMP:20260421T094106
CREATED:20230829T104014Z
LAST-MODIFIED:20230829T104014Z
UID:10000211-1695722400-1695733200@highland.edu
SUMMARY:St. Anthony's College of Nursing Visit
DESCRIPTION:
URL:https://highland.edu/event/st-anthonys-college-of-nursing-visit-3/
LOCATION:Cougar Cafe
CATEGORIES:Advising
END:VEVENT
BEGIN:VEVENT
DTSTART;TZID=America/Chicago:20230926T100000
DTEND;TZID=America/Chicago:20230926T130000
DTSTAMP:20260421T094106
CREATED:20230825T102512Z
LAST-MODIFIED:20230825T102512Z
UID:10000183-1695722400-1695733200@highland.edu
SUMMARY:St. Anthony's College of Nursing Visit
DESCRIPTION:
URL:https://highland.edu/event/st-anthonys-college-of-nursing-visit/
LOCATION:Cougar Cafe
CATEGORIES:Advising
END:VEVENT
END:VCALENDAR