BEGIN:VCALENDAR
VERSION:2.0
PRODID:-//Highland Community College - ECPv6.15.20//NONSGML v1.0//EN
CALSCALE:GREGORIAN
METHOD:PUBLISH
X-WR-CALNAME:Highland Community College
X-ORIGINAL-URL:https://highland.edu
X-WR-CALDESC:Events for Highland Community College
REFRESH-INTERVAL;VALUE=DURATION:PT1H
X-Robots-Tag:noindex
X-PUBLISHED-TTL:PT1H
BEGIN:VTIMEZONE
TZID:America/Chicago
BEGIN:DAYLIGHT
TZOFFSETFROM:-0600
TZOFFSETTO:-0500
TZNAME:CDT
DTSTART:20230312T080000
END:DAYLIGHT
BEGIN:STANDARD
TZOFFSETFROM:-0500
TZOFFSETTO:-0600
TZNAME:CST
DTSTART:20231105T070000
END:STANDARD
BEGIN:DAYLIGHT
TZOFFSETFROM:-0600
TZOFFSETTO:-0500
TZNAME:CDT
DTSTART:20240310T080000
END:DAYLIGHT
BEGIN:STANDARD
TZOFFSETFROM:-0500
TZOFFSETTO:-0600
TZNAME:CST
DTSTART:20241103T070000
END:STANDARD
BEGIN:DAYLIGHT
TZOFFSETFROM:-0600
TZOFFSETTO:-0500
TZNAME:CDT
DTSTART:20250309T080000
END:DAYLIGHT
BEGIN:STANDARD
TZOFFSETFROM:-0500
TZOFFSETTO:-0600
TZNAME:CST
DTSTART:20251102T070000
END:STANDARD
END:VTIMEZONE
BEGIN:VEVENT
DTSTART;TZID=America/Chicago:20240725T080000
DTEND;TZID=America/Chicago:20240725T170000
DTSTAMP:20260421T050021
CREATED:20240711T215905Z
LAST-MODIFIED:20240711T215905Z
UID:10001591-1721894400-1721926800@highland.edu
SUMMARY:Bookstore Hallway Sale
DESCRIPTION:Stop by for discounts on bookstore items like clothing\, office supplies\, HCC merchandise\, tripods\, mugs/cups and much more!
URL:https://highland.edu/event/bookstore-hallway-sale/2024-07-25/
LOCATION:J. Rosemary Shockey Bookstore (H)
CATEGORIES:Student Events
END:VEVENT
BEGIN:VEVENT
DTSTART;TZID=America/Chicago:20240724T080000
DTEND;TZID=America/Chicago:20240724T170000
DTSTAMP:20260421T050021
CREATED:20240711T215905Z
LAST-MODIFIED:20240711T215905Z
UID:10001590-1721808000-1721840400@highland.edu
SUMMARY:Bookstore Hallway Sale
DESCRIPTION:Stop by for discounts on bookstore items like clothing\, office supplies\, HCC merchandise\, tripods\, mugs/cups and much more!
URL:https://highland.edu/event/bookstore-hallway-sale/2024-07-24/
LOCATION:J. Rosemary Shockey Bookstore (H)
CATEGORIES:Student Events
END:VEVENT
BEGIN:VEVENT
DTSTART;TZID=America/Chicago:20240723T080000
DTEND;TZID=America/Chicago:20240723T170000
DTSTAMP:20260421T050021
CREATED:20240711T215905Z
LAST-MODIFIED:20240711T215905Z
UID:10001589-1721721600-1721754000@highland.edu
SUMMARY:Bookstore Hallway Sale
DESCRIPTION:Stop by for discounts on bookstore items like clothing\, office supplies\, HCC merchandise\, tripods\, mugs/cups and much more!
URL:https://highland.edu/event/bookstore-hallway-sale/2024-07-23/
LOCATION:J. Rosemary Shockey Bookstore (H)
CATEGORIES:Student Events
END:VEVENT
BEGIN:VEVENT
DTSTART;TZID=America/Chicago:20240722T080000
DTEND;TZID=America/Chicago:20240722T170000
DTSTAMP:20260421T050021
CREATED:20240711T215905Z
LAST-MODIFIED:20240711T215905Z
UID:10001588-1721635200-1721667600@highland.edu
SUMMARY:Bookstore Hallway Sale
DESCRIPTION:Stop by for discounts on bookstore items like clothing\, office supplies\, HCC merchandise\, tripods\, mugs/cups and much more!
URL:https://highland.edu/event/bookstore-hallway-sale/2024-07-22/
LOCATION:J. Rosemary Shockey Bookstore (H)
CATEGORIES:Student Events
END:VEVENT
BEGIN:VEVENT
DTSTART;TZID=America/Chicago:20240430T110000
DTEND;TZID=America/Chicago:20240430T130000
DTSTAMP:20260421T050021
CREATED:20240418T152822Z
LAST-MODIFIED:20240418T152822Z
UID:10001545-1714474800-1714482000@highland.edu
SUMMARY:"Songs to Dream By" Book Signing with Adam Moderow
DESCRIPTION:Join the J. Rosemary Shockey Bookstore and Adam Moderow for the release of his debut collection and book signing! Refreshments will be served.\n\n“Songs to Dream By” is a collection of short stories that blend philosophy\, humor\, introspection\, childlike whimsy\, minimalism and speculative fiction.\n\nModerow is an Eagle Scout with degrees in philosophy\, history and teaching. He teaches developmental reading and GED® courses for Highland.
URL:https://highland.edu/event/songs-to-dream-by-book-signing-with-adam-moderow/
LOCATION:J. Rosemary Shockey Bookstore (H)
CATEGORIES:Student Events
END:VEVENT
END:VCALENDAR