BEGIN:VCALENDAR
VERSION:2.0
PRODID:-//Highland Community College - ECPv6.15.20//NONSGML v1.0//EN
CALSCALE:GREGORIAN
METHOD:PUBLISH
X-ORIGINAL-URL:https://highland.edu
X-WR-CALDESC:Events for Highland Community College
REFRESH-INTERVAL;VALUE=DURATION:PT1H
X-Robots-Tag:noindex
X-PUBLISHED-TTL:PT1H
BEGIN:VTIMEZONE
TZID:America/Chicago
BEGIN:DAYLIGHT
TZOFFSETFROM:-0600
TZOFFSETTO:-0500
TZNAME:CDT
DTSTART:20250309T080000
END:DAYLIGHT
BEGIN:STANDARD
TZOFFSETFROM:-0500
TZOFFSETTO:-0600
TZNAME:CST
DTSTART:20251102T070000
END:STANDARD
BEGIN:DAYLIGHT
TZOFFSETFROM:-0600
TZOFFSETTO:-0500
TZNAME:CDT
DTSTART:20260308T080000
END:DAYLIGHT
BEGIN:STANDARD
TZOFFSETFROM:-0500
TZOFFSETTO:-0600
TZNAME:CST
DTSTART:20261101T070000
END:STANDARD
BEGIN:DAYLIGHT
TZOFFSETFROM:-0600
TZOFFSETTO:-0500
TZNAME:CDT
DTSTART:20270314T080000
END:DAYLIGHT
BEGIN:STANDARD
TZOFFSETFROM:-0500
TZOFFSETTO:-0600
TZNAME:CST
DTSTART:20271107T070000
END:STANDARD
END:VTIMEZONE
BEGIN:VEVENT
DTSTART;TZID=America/Chicago:20260419T080000
DTEND;TZID=America/Chicago:20260419T170000
DTSTAMP:20260420T053742
CREATED:20260324T195714Z
LAST-MODIFIED:20260419T181233Z
UID:10002900-1776585600-1776618000@highland.edu
SUMMARY:Motorcycle Safety Training
DESCRIPTION:Students must register through Southern Illinois University:   \nSIU Contact information:Website: northernmrp.siu.edu
URL:https://highland.edu/event/motorcycle-safety-training-9/
LOCATION:Parking Lot D & Natural Science & Health Center Ry and Betty Stamm Health Science Nursing Wing\, Rm N-158
CATEGORIES:Conference Center
END:VEVENT
BEGIN:VEVENT
DTSTART;TZID=America/Chicago:20260418T080000
DTEND;TZID=America/Chicago:20260418T170000
DTSTAMP:20260420T053742
CREATED:20260324T195713Z
LAST-MODIFIED:20260418T175906Z
UID:10002899-1776499200-1776531600@highland.edu
SUMMARY:Motorcycle Safety Training
DESCRIPTION:Students must register through Southern Illinois University:   \nSIU Contact information:Website: northernmrp.siu.edu
URL:https://highland.edu/event/motorcycle-safety-training-8/
LOCATION:Parking Lot D & Natural Science & Health Center Ry and Betty Stamm Health Science Nursing Wing\, Rm N-158
CATEGORIES:Conference Center
END:VEVENT
BEGIN:VEVENT
DTSTART;TZID=America/Chicago:20260417T080000
DTEND;TZID=America/Chicago:20260417T170000
DTSTAMP:20260420T053742
CREATED:20260324T195713Z
LAST-MODIFIED:20260417T172722Z
UID:10002898-1776412800-1776445200@highland.edu
SUMMARY:Motorcycle Safety Training
DESCRIPTION:Students must register through Southern Illinois University:   \nSIU Contact information:Website: northernmrp.siu.edu
URL:https://highland.edu/event/motorcycle-safety-training-7/
LOCATION:Parking Lot D & Natural Science & Health Center Ry and Betty Stamm Health Science Nursing Wing\, Rm N-158
CATEGORIES:Conference Center
END:VEVENT
BEGIN:VEVENT
DTSTART;TZID=America/Chicago:20260412T080000
DTEND;TZID=America/Chicago:20260412T170000
DTSTAMP:20260420T053742
CREATED:20260324T195713Z
LAST-MODIFIED:20260412T212745Z
UID:10002897-1775980800-1776013200@highland.edu
SUMMARY:Motorcycle Safety Training
DESCRIPTION:Students must register through Southern Illinois University:   \nSIU Contact information:Website: northernmrp.siu.edu
URL:https://highland.edu/event/motorcycle-safety-training-6/
LOCATION:Parking Lot D & Natural Science & Health Center Ry and Betty Stamm Health Science Nursing Wing\, Rm N-158
CATEGORIES:Conference Center
END:VEVENT
BEGIN:VEVENT
DTSTART;TZID=America/Chicago:20260411T080000
DTEND;TZID=America/Chicago:20260411T170000
DTSTAMP:20260420T053742
CREATED:20260324T195712Z
LAST-MODIFIED:20260411T214232Z
UID:10002896-1775894400-1775926800@highland.edu
SUMMARY:Motorcycle Safety Training
DESCRIPTION:Students must register through Southern Illinois University:   \nSIU Contact information:Website: northernmrp.siu.edu
URL:https://highland.edu/event/motorcycle-safety-training-5/
LOCATION:Parking Lot D & Natural Science & Health Center Ry and Betty Stamm Health Science Nursing Wing\, Rm N-158
CATEGORIES:Conference Center
END:VEVENT
BEGIN:VEVENT
DTSTART;TZID=America/Chicago:20260410T080000
DTEND;TZID=America/Chicago:20260410T170000
DTSTAMP:20260420T053742
CREATED:20260324T195712Z
LAST-MODIFIED:20260410T212712Z
UID:10002895-1775808000-1775840400@highland.edu
SUMMARY:Motorcycle Safety Training
DESCRIPTION:Students must register through Southern Illinois University:   \nSIU Contact information:Website: northernmrp.siu.edu
URL:https://highland.edu/event/motorcycle-safety-training-4/
LOCATION:Parking Lot D & Natural Science & Health Center Ry and Betty Stamm Health Science Nursing Wing\, Rm N-158
CATEGORIES:Conference Center
END:VEVENT
BEGIN:VEVENT
DTSTART;TZID=America/Chicago:20260405T080000
DTEND;TZID=America/Chicago:20260405T170000
DTSTAMP:20260420T053742
CREATED:20260324T195711Z
LAST-MODIFIED:20260405T215717Z
UID:10002894-1775376000-1775408400@highland.edu
SUMMARY:Motorcycle Safety Training
DESCRIPTION:Students must register through Southern Illinois University:   \nSIU Contact information:Website: northernmrp.siu.edu
URL:https://highland.edu/event/motorcycle-safety-training-3/
LOCATION:Parking Lot D & Natural Science & Health Center Ry and Betty Stamm Health Science Nursing Wing\, Rm N-158
CATEGORIES:Conference Center
END:VEVENT
BEGIN:VEVENT
DTSTART;TZID=America/Chicago:20260404T080000
DTEND;TZID=America/Chicago:20260404T170000
DTSTAMP:20260420T053742
CREATED:20260324T195711Z
LAST-MODIFIED:20260404T214213Z
UID:10002893-1775289600-1775322000@highland.edu
SUMMARY:Motorcycle Safety Training
DESCRIPTION:Students must register through Southern Illinois University:   \nSIU Contact information:Website: northernmrp.siu.edu
URL:https://highland.edu/event/motorcycle-safety-training-2/
LOCATION:Parking Lot D & Natural Science & Health Center Ry and Betty Stamm Health Science Nursing Wing\, Rm N-158
CATEGORIES:Conference Center
END:VEVENT
BEGIN:VEVENT
DTSTART;TZID=America/Chicago:20260403T080000
DTEND;TZID=America/Chicago:20260403T170000
DTSTAMP:20260420T053742
CREATED:20260324T195710Z
LAST-MODIFIED:20260403T211214Z
UID:10002892-1775203200-1775235600@highland.edu
SUMMARY:Motorcycle Safety Training
DESCRIPTION:Students must register through Southern Illinois University:   \nSIU Contact information:Website: northernmrp.siu.edu
URL:https://highland.edu/event/motorcycle-safety-training/
LOCATION:Parking Lot D & Natural Science & Health Center Ry and Betty Stamm Health Science Nursing Wing\, Rm N-158
CATEGORIES:Conference Center
END:VEVENT
END:VCALENDAR