BEGIN:VCALENDAR
VERSION:2.0
PRODID:-//Highland Community College - ECPv6.15.20//NONSGML v1.0//EN
CALSCALE:GREGORIAN
METHOD:PUBLISH
X-ORIGINAL-URL:https://highland.edu
X-WR-CALDESC:Events for Highland Community College
REFRESH-INTERVAL;VALUE=DURATION:PT1H
X-Robots-Tag:noindex
X-PUBLISHED-TTL:PT1H
BEGIN:VTIMEZONE
TZID:America/Chicago
BEGIN:DAYLIGHT
TZOFFSETFROM:-0600
TZOFFSETTO:-0500
TZNAME:CDT
DTSTART:20220313T080000
END:DAYLIGHT
BEGIN:STANDARD
TZOFFSETFROM:-0500
TZOFFSETTO:-0600
TZNAME:CST
DTSTART:20221106T070000
END:STANDARD
BEGIN:DAYLIGHT
TZOFFSETFROM:-0600
TZOFFSETTO:-0500
TZNAME:CDT
DTSTART:20230312T080000
END:DAYLIGHT
BEGIN:STANDARD
TZOFFSETFROM:-0500
TZOFFSETTO:-0600
TZNAME:CST
DTSTART:20231105T070000
END:STANDARD
BEGIN:DAYLIGHT
TZOFFSETFROM:-0600
TZOFFSETTO:-0500
TZNAME:CDT
DTSTART:20240310T080000
END:DAYLIGHT
BEGIN:STANDARD
TZOFFSETFROM:-0500
TZOFFSETTO:-0600
TZNAME:CST
DTSTART:20241103T070000
END:STANDARD
BEGIN:DAYLIGHT
TZOFFSETFROM:-0600
TZOFFSETTO:-0500
TZNAME:CDT
DTSTART:20250309T080000
END:DAYLIGHT
BEGIN:STANDARD
TZOFFSETFROM:-0500
TZOFFSETTO:-0600
TZNAME:CST
DTSTART:20251102T070000
END:STANDARD
END:VTIMEZONE
BEGIN:VEVENT
DTSTART;TZID=America/Chicago:20240430T160000
DTEND;TZID=America/Chicago:20240430T180000
DTSTAMP:20260423T084046
CREATED:20230816T192140Z
LAST-MODIFIED:20240416T145540Z
UID:10000059-1714492800-1714500000@highland.edu
SUMMARY:Board of Trustees Regular Meeting
DESCRIPTION:
URL:https://highland.edu/event/board-of-trustees-regular-meeting-8/
LOCATION:Robert J. Rimington Board Room (H-228)
CATEGORIES:President's Office, Board of Trustees
ORGANIZER;CN="President's Office%2C Board of Trustees":MAILTO:PublicCalendar-PresOfc-Board@highland.edu
END:VEVENT
BEGIN:VEVENT
DTSTART;TZID=America/Chicago:20240326T160000
DTEND;TZID=America/Chicago:20240326T180000
DTSTAMP:20260423T084046
CREATED:20230816T192139Z
LAST-MODIFIED:20230816T192139Z
UID:10000058-1711468800-1711476000@highland.edu
SUMMARY:Board of Trustees Regular Meeting
DESCRIPTION:
URL:https://highland.edu/event/board-of-trustees-regular-meeting-7/
LOCATION:Robert J. Rimington Board Room (H-228)
CATEGORIES:President's Office, Board of Trustees
ORGANIZER;CN="President's Office%2C Board of Trustees":MAILTO:PublicCalendar-PresOfc-Board@highland.edu
END:VEVENT
BEGIN:VEVENT
DTSTART;TZID=America/Chicago:20240313T080000
DTEND;TZID=America/Chicago:20240313T140000
DTSTAMP:20260423T084046
CREATED:20230816T192139Z
LAST-MODIFIED:20230816T192139Z
UID:10000057-1710316800-1710338400@highland.edu
SUMMARY:Board of Trustees Quarterly Board Retreat
DESCRIPTION:
URL:https://highland.edu/event/board-of-trustees-quarterly-board-retreat-3/
LOCATION:Robert J. Rimington Board Room (H-228)
CATEGORIES:President's Office, Board of Trustees
ORGANIZER;CN="President's Office%2C Board of Trustees":MAILTO:PublicCalendar-PresOfc-Board@highland.edu
END:VEVENT
BEGIN:VEVENT
DTSTART;TZID=America/Chicago:20240227T160000
DTEND;TZID=America/Chicago:20240227T180000
DTSTAMP:20260423T084046
CREATED:20230816T192139Z
LAST-MODIFIED:20230816T192139Z
UID:10000056-1709049600-1709056800@highland.edu
SUMMARY:Board of Trustees Regular Meeting
DESCRIPTION:
URL:https://highland.edu/event/board-of-trustees-regular-meeting-6/
LOCATION:Robert J. Rimington Board Room (H-228)
CATEGORIES:President's Office, Board of Trustees
ORGANIZER;CN="President's Office%2C Board of Trustees":MAILTO:PublicCalendar-PresOfc-Board@highland.edu
END:VEVENT
BEGIN:VEVENT
DTSTART;TZID=America/Chicago:20240123T160000
DTEND;TZID=America/Chicago:20240123T180000
DTSTAMP:20260423T084046
CREATED:20230816T192137Z
LAST-MODIFIED:20230816T192139Z
UID:10000055-1706025600-1706032800@highland.edu
SUMMARY:Board of Trustees Regular Meeting
DESCRIPTION:
URL:https://highland.edu/event/board-of-trustees-regular-meeting-5/
LOCATION:Robert J. Rimington Board Room (H-228)
CATEGORIES:President's Office, Board of Trustees
ORGANIZER;CN="President's Office%2C Board of Trustees":MAILTO:PublicCalendar-PresOfc-Board@highland.edu
END:VEVENT
BEGIN:VEVENT
DTSTART;TZID=America/Chicago:20231213T080000
DTEND;TZID=America/Chicago:20231213T140000
DTSTAMP:20260423T084046
CREATED:20230816T192137Z
LAST-MODIFIED:20230816T192138Z
UID:10000054-1702454400-1702476000@highland.edu
SUMMARY:Board of Trustees Quarterly Board Retreat
DESCRIPTION:
URL:https://highland.edu/event/board-of-trustees-quarterly-board-retreat-2/
LOCATION:Robert J. Rimington Board Room (H-228)
CATEGORIES:President's Office, Board of Trustees
ORGANIZER;CN="President's Office%2C Board of Trustees":MAILTO:PublicCalendar-PresOfc-Board@highland.edu
END:VEVENT
BEGIN:VEVENT
DTSTART;TZID=America/Chicago:20231128T160000
DTEND;TZID=America/Chicago:20231128T180000
DTSTAMP:20260423T084046
CREATED:20230816T192137Z
LAST-MODIFIED:20230816T192138Z
UID:10000053-1701187200-1701194400@highland.edu
SUMMARY:Board of Trustees Regular Meeting
DESCRIPTION:
URL:https://highland.edu/event/board-of-trustees-regular-meeting-4/
LOCATION:Robert J. Rimington Board Room (H-228)
CATEGORIES:President's Office, Board of Trustees
ORGANIZER;CN="President's Office%2C Board of Trustees":MAILTO:PublicCalendar-PresOfc-Board@highland.edu
END:VEVENT
BEGIN:VEVENT
DTSTART;TZID=America/Chicago:20231024T160000
DTEND;TZID=America/Chicago:20231024T180000
DTSTAMP:20260423T084046
CREATED:20230816T192137Z
LAST-MODIFIED:20230816T192138Z
UID:10000052-1698163200-1698170400@highland.edu
SUMMARY:Board of Trustees Regular Meeting
DESCRIPTION:
URL:https://highland.edu/event/board-of-trustees-regular-meeting-3/
LOCATION:Robert J. Rimington Board Room (H-228)
CATEGORIES:President's Office, Board of Trustees
ORGANIZER;CN="President's Office%2C Board of Trustees":MAILTO:PublicCalendar-PresOfc-Board@highland.edu
END:VEVENT
BEGIN:VEVENT
DTSTART;TZID=America/Chicago:20231024T150000
DTEND;TZID=America/Chicago:20231024T160000
DTSTAMP:20260423T084046
CREATED:20230816T192136Z
LAST-MODIFIED:20230816T192138Z
UID:10000051-1698159600-1698163200@highland.edu
SUMMARY:Board of Trustees Audit & Finance Committee Meeting
DESCRIPTION:
URL:https://highland.edu/event/board-of-trustees-audit-finance-committee-meeting/
LOCATION:Robert J. Rimington Board Room (H-228)
CATEGORIES:President's Office, Board of Trustees
ORGANIZER;CN="President's Office%2C Board of Trustees":MAILTO:PublicCalendar-PresOfc-Board@highland.edu
END:VEVENT
BEGIN:VEVENT
DTSTART;TZID=America/Chicago:20230926T160000
DTEND;TZID=America/Chicago:20230926T180000
DTSTAMP:20260423T084046
CREATED:20230816T192136Z
LAST-MODIFIED:20230816T192138Z
UID:10000050-1695744000-1695751200@highland.edu
SUMMARY:Board of Trustees Regular Meeting
DESCRIPTION:
URL:https://highland.edu/event/board-of-trustees-regular-meeting-2/
LOCATION:Robert J. Rimington Board Room (H-228)
CATEGORIES:President's Office, Board of Trustees
ORGANIZER;CN="President's Office%2C Board of Trustees":MAILTO:PublicCalendar-PresOfc-Board@highland.edu
END:VEVENT
BEGIN:VEVENT
DTSTART;TZID=America/Chicago:20230913T080000
DTEND;TZID=America/Chicago:20230913T140000
DTSTAMP:20260423T084046
CREATED:20230816T192136Z
LAST-MODIFIED:20230816T192138Z
UID:10000048-1694592000-1694613600@highland.edu
SUMMARY:Board of Trustees Quarterly Board Retreat
DESCRIPTION:
URL:https://highland.edu/event/board-of-trustees-quarterly-board-retreat/
LOCATION:Robert J. Rimington Board Room (H-228)
CATEGORIES:President's Office, Board of Trustees
ORGANIZER;CN="President's Office%2C Board of Trustees":MAILTO:PublicCalendar-PresOfc-Board@highland.edu
END:VEVENT
BEGIN:VEVENT
DTSTART;TZID=America/Chicago:20230822T150000
DTEND;TZID=America/Chicago:20230822T160000
DTSTAMP:20260423T084046
CREATED:20230816T192136Z
LAST-MODIFIED:20230816T192137Z
UID:10000046-1692716400-1692720000@highland.edu
SUMMARY:Board of Trustees Decennial Committee Meeting
DESCRIPTION:
URL:https://highland.edu/event/board-of-trustees-decennial-committee-meeting/
LOCATION:Robert J. Rimington Board Room (H-228)
CATEGORIES:President's Office, Board of Trustees
ORGANIZER;CN="President's Office%2C Board of Trustees":MAILTO:PublicCalendar-PresOfc-Board@highland.edu
END:VEVENT
END:VCALENDAR